BEGIN:VCALENDAR
VERSION:2.0
PRODID:-//Geopolitica.info - ECPv6.15.20//NONSGML v1.0//EN
CALSCALE:GREGORIAN
METHOD:PUBLISH
X-WR-CALNAME:Geopolitica.info
X-ORIGINAL-URL:https://geopolitica.info
X-WR-CALDESC:Eventi per Geopolitica.info
REFRESH-INTERVAL;VALUE=DURATION:PT1H
X-Robots-Tag:noindex
X-PUBLISHED-TTL:PT1H
BEGIN:VTIMEZONE
TZID:Europe/Rome
BEGIN:DAYLIGHT
TZOFFSETFROM:+0100
TZOFFSETTO:+0200
TZNAME:CEST
DTSTART:20250330T010000
END:DAYLIGHT
BEGIN:STANDARD
TZOFFSETFROM:+0200
TZOFFSETTO:+0100
TZNAME:CET
DTSTART:20251026T010000
END:STANDARD
BEGIN:DAYLIGHT
TZOFFSETFROM:+0100
TZOFFSETTO:+0200
TZNAME:CEST
DTSTART:20260329T010000
END:DAYLIGHT
BEGIN:STANDARD
TZOFFSETFROM:+0200
TZOFFSETTO:+0100
TZNAME:CET
DTSTART:20261025T010000
END:STANDARD
BEGIN:DAYLIGHT
TZOFFSETFROM:+0100
TZOFFSETTO:+0200
TZNAME:CEST
DTSTART:20270328T010000
END:DAYLIGHT
BEGIN:STANDARD
TZOFFSETFROM:+0200
TZOFFSETTO:+0100
TZNAME:CET
DTSTART:20271031T010000
END:STANDARD
END:VTIMEZONE
BEGIN:VEVENT
DTSTART;TZID=Europe/Rome:20260424T160000
DTEND;TZID=Europe/Rome:20260424T190000
DTSTAMP:20260424T013305
CREATED:20260422T095046Z
LAST-MODIFIED:20260422T095149Z
UID:53860-1777046400-1777057200@geopolitica.info
SUMMARY:Il dossier Sud-est asiatico
DESCRIPTION:Dialoghi sulla politica internazionale – quarta edizione \n24 aprile\, ore 16. Centro Studi Americani \nRoberto Sgalla\, Centro Studi Americani \nValentina Muiesan\, MAECI \nAurora Buzzo\, Fincantieri \nRaffaele Cadin\, Sapienza Univ. Roma \nLorenzo Termine\, EUI\, Centro Studi Geopolitica.info
URL:https://geopolitica.info/evento/il-dossier-sud-est-asiatico/
LOCATION:Centro Studi Americani\, Via Michelangelo Caetani 32\, Roma
CATEGORIES:Evento in presenza
ATTACH;FMTTYPE=image/jpeg:https://geopolitica.info/wp-content/uploads/2026/04/WhatsApp-Image-2026-04-22-at-11.44.28.jpeg
END:VEVENT
END:VCALENDAR