BEGIN:VCALENDAR
VERSION:2.0
PRODID:-//Geopolitica.info - ECPv6.15.20//NONSGML v1.0//EN
CALSCALE:GREGORIAN
METHOD:PUBLISH
X-ORIGINAL-URL:https://geopolitica.info
X-WR-CALDESC:Eventi per Geopolitica.info
REFRESH-INTERVAL;VALUE=DURATION:PT1H
X-Robots-Tag:noindex
X-PUBLISHED-TTL:PT1H
BEGIN:VTIMEZONE
TZID:Europe/Rome
BEGIN:DAYLIGHT
TZOFFSETFROM:+0100
TZOFFSETTO:+0200
TZNAME:CEST
DTSTART:20240331T010000
END:DAYLIGHT
BEGIN:STANDARD
TZOFFSETFROM:+0200
TZOFFSETTO:+0100
TZNAME:CET
DTSTART:20241027T010000
END:STANDARD
BEGIN:DAYLIGHT
TZOFFSETFROM:+0100
TZOFFSETTO:+0200
TZNAME:CEST
DTSTART:20250330T010000
END:DAYLIGHT
BEGIN:STANDARD
TZOFFSETFROM:+0200
TZOFFSETTO:+0100
TZNAME:CET
DTSTART:20251026T010000
END:STANDARD
BEGIN:DAYLIGHT
TZOFFSETFROM:+0100
TZOFFSETTO:+0200
TZNAME:CEST
DTSTART:20260329T010000
END:DAYLIGHT
BEGIN:STANDARD
TZOFFSETFROM:+0200
TZOFFSETTO:+0100
TZNAME:CET
DTSTART:20261025T010000
END:STANDARD
END:VTIMEZONE
BEGIN:VEVENT
DTSTART;TZID=Europe/Rome:20251014T110000
DTEND;TZID=Europe/Rome:20251014T130000
DTSTAMP:20260425T045304
CREATED:20250929T133030Z
LAST-MODIFIED:20251007T124854Z
UID:51339-1760439600-1760446800@geopolitica.info
SUMMARY:Come cambiano le relazioni transatlantiche. Un bilancio europeo un anno dopo la rielezione di Trump
DESCRIPTION:Il Centro Studi Geopolitica.info vi invita a partecipare alla tavola rotonda “Come cambiano le relazioni transatlantiche. L’esperienza delle commissioni affari esteri e comunitari e difesa della Camera dei Deputati“\, in programma il prossimo 14 ottobre. \nL’iniziativa – realizzata grazie alla collaborazione tra istituzioni italiani e internazionali – rappresenta un’importante occasione di confronto sull’evoluzione della politica estera americana e le sue implicazioni per Roma e Bruxelles. \nConferenza\nCome cambiano le relazioni transatlantiche. L’esperienza delle Commissioni Affari Esteri e Comunitari e Difesa della Camera dei Deputati \nUnitelmaSapienza – PiazzaSassari\, 4 – Sala Conferenze\,ore 11.00 – 13.00 \nIndirizzo di saluto: Bruno Botta (UnitelmaSapienza) \nIntroduce: Mario Carta (UnitelmaSapienza) \nPresiede: Alessio Nardi (Consigliere per le politiche di sicurezza e in materia di giustizia\, cooperazione e sviluppo del Ministro degli Affari Esteri e della Cooperazione Internazionale) \nSpeaker: Giangiacomo Calovini (Commissione Affari Esteri e Comunitari\, Camera dei Deputati)\, Paolo Formentini (Commissione Affari Esteri e Comunitari\, Camera dei Deputati)\, Arnaldo Lomuti (Commissione Difesa\, Camera dei Deputati)\, Federica Onori (Commissione Affari Esteri e Comunitari\, Camera dei Deputati)\, Lia Quartapelle (Commissione Affari Esteri e Comunitari\, Camera dei Deputati) \nConclude: Roberto Sgalla (Centro Studi Americani) \nRegistrazione Link https://forms.gle/yqgDdDmX4wsbNHbPA \n·      La partecipazione alla conferenza pubblica è libera\, ma sarà comunque gradita la registrazione. \n  \n 
URL:https://geopolitica.info/evento/51339/
LOCATION:Sapienza Università di Roma e UnitelmaSapienza
CATEGORIES:Evento in presenza
ATTACH;FMTTYPE=image/png:https://geopolitica.info/wp-content/uploads/2025/09/SVD-14-ottobre-UNITELMA-scaled.png
END:VEVENT
END:VCALENDAR