BEGIN:VCALENDAR
VERSION:2.0
PRODID:-//Geopolitica.info - ECPv6.15.20//NONSGML v1.0//EN
CALSCALE:GREGORIAN
METHOD:PUBLISH
X-ORIGINAL-URL:https://geopolitica.info
X-WR-CALDESC:Eventi per Geopolitica.info
REFRESH-INTERVAL;VALUE=DURATION:PT1H
X-Robots-Tag:noindex
X-PUBLISHED-TTL:PT1H
BEGIN:VTIMEZONE
TZID:Europe/Rome
BEGIN:DAYLIGHT
TZOFFSETFROM:+0100
TZOFFSETTO:+0200
TZNAME:CEST
DTSTART:20240331T010000
END:DAYLIGHT
BEGIN:STANDARD
TZOFFSETFROM:+0200
TZOFFSETTO:+0100
TZNAME:CET
DTSTART:20241027T010000
END:STANDARD
BEGIN:DAYLIGHT
TZOFFSETFROM:+0100
TZOFFSETTO:+0200
TZNAME:CEST
DTSTART:20250330T010000
END:DAYLIGHT
BEGIN:STANDARD
TZOFFSETFROM:+0200
TZOFFSETTO:+0100
TZNAME:CET
DTSTART:20251026T010000
END:STANDARD
BEGIN:DAYLIGHT
TZOFFSETFROM:+0100
TZOFFSETTO:+0200
TZNAME:CEST
DTSTART:20260329T010000
END:DAYLIGHT
BEGIN:STANDARD
TZOFFSETFROM:+0200
TZOFFSETTO:+0100
TZNAME:CET
DTSTART:20261025T010000
END:STANDARD
BEGIN:DAYLIGHT
TZOFFSETFROM:+0100
TZOFFSETTO:+0200
TZNAME:CEST
DTSTART:20270328T010000
END:DAYLIGHT
BEGIN:STANDARD
TZOFFSETFROM:+0200
TZOFFSETTO:+0100
TZNAME:CET
DTSTART:20271031T010000
END:STANDARD
END:VTIMEZONE
BEGIN:VEVENT
DTSTART;TZID=Europe/Rome:20251203T140000
DTEND;TZID=Europe/Rome:20251203T160000
DTSTAMP:20260425T183501
CREATED:20251224T172946Z
LAST-MODIFIED:20251216T111637Z
UID:51590-1764770400-1764777600@geopolitica.info
SUMMARY:La politica internazionale dell'Italia alla fine della guerra fredda
DESCRIPTION:Discussione a partire dal volume Gianni De Michelis\, Ministro degli Esteri nel mondo che cambia (1989-1990) a cura della Fondazione Bettino Craxi ETS. \nL’iniziativa è organizzata dal Centro Studi Geopolitica.info e la Fondazione Bettino Craxi ETS\, in collaborazione con il Dottorato in Studi Politici di Sapienza Università di Roma. \nL’incontro si terrà il prossimo 3 dicembre alle ore 14:00\, presso il Dipartimento di Scienze Politiche\, Sapienza Università di Roma – Aula B – Piazzale Aldo Moro 5 – ROMA \nINTRODUCE:\nGABRIELE NATALIZIA\, Centro Studi Geopolitica.info \nINTERVENTI:\nNICOLA CARNOVALE\, Fondazione Bettino Craxi ETS\nMARIANNA LUNARDINI\, Istituto Affari Internazionali\nLUCA MICHELETTA\, Sapienza Università di Roma\nILARIA ZAVARESCO\, Dottorato in Studi Politici Sapienza Università di Roma \nMODERA:\nNICOLÒ SORIO\, Dottorato in Studi Politici Sapienza Università di Roma
URL:https://geopolitica.info/evento/la-politica-internazionale-dellitalia-alla-fine-della-guerra-fredda/
LOCATION:Dipartimento di Scienze politiche di Sapienza Università di Roma
CATEGORIES:Evento in presenza
ATTACH;FMTTYPE=image/png:https://geopolitica.info/wp-content/uploads/2025/11/INVITO-3-dicembre56-1-scaled.png
END:VEVENT
BEGIN:VEVENT
DTSTART;TZID=Europe/Rome:20260309T163000
DTEND;TZID=Europe/Rome:20260309T190000
DTSTAMP:20260425T183501
CREATED:20260303T175818Z
LAST-MODIFIED:20260303T182920Z
UID:53025-1773073800-1773082800@geopolitica.info
SUMMARY:L'ordine internazionale alla prova delle nuove minacce: attori\, spazi e posta in gioco
DESCRIPTION:🌍 L’ordine internazionale alla prova delle nuove minacce: attori\, spazi e posta in gioco\nIn un contesto globale sempre più complesso\, segnato da conflitti ibridi\, competizione strategica e trasformazioni geopolitiche\, riflettere sull’evoluzione dell’ordine internazionale è fondamentale. \nLink di registrazione: https://forms.gle/NPuxnp94kkxkSJvu6 \nSaluti istituzionali\nMario Carta\, Direttore del Dipartimento di Diritto e\nSocietà Digitale\, UnitelmaSapienza \nModera\nMaria Grazia Fiorani\, giornalista TG3 \nIntervengono\nFranco Gabrielli\, già Autorità delegata ai Servizi nel\ngoverno Draghi\nAlessandro De Angelis\, Editorialista\, La Stampa\nGiulia Bianchi\, ricercatrice di Storia delle Relazioni\nInternazionali\, UnitelmaSapienza\nGabriele Natalizia\, professore di Sicurezza e Politica\nInternazionale\, Sapienza Università di Roma \nConclude\nEnrico Borghi\, senatore e autore del volume “Sotto\nattacco” (Rubettino\, 2025)
URL:https://geopolitica.info/evento/lordine-internazionale-alla-prova-delle-nuove-minacce-attori-spazi-e-posta-in-gioco/
LOCATION:Sala Conferenze\, UnitelmaSapienza\, Piazza Sassari 4\, Roma\, Italy
CATEGORIES:Evento in presenza
END:VEVENT
BEGIN:VEVENT
DTSTART;TZID=Europe/Rome:20260313T163000
DTEND;TZID=Europe/Rome:20260313T190000
DTSTAMP:20260425T183501
CREATED:20260303T182132Z
LAST-MODIFIED:20260317T082357Z
UID:53030-1773419400-1773428400@geopolitica.info
SUMMARY:Diplomazia della sicurezza
DESCRIPTION:Le iscrizioni per questo evento sono chiuse. \nSaluti indirizzo\nMaria Cristina Marchetti\,\nDirettrice DISP\, Sapienza Università di Roma \nIntervengono\nAlessandro Gonzales\,\nVice Direttore Generale DGAP\, Direttore Centrale per la Sicurezza\, MAECI\nStefania Craxi\,\nPresidente III Commissione Affari Esteri e Difesa\,\nSenato della Repubblica \nDiscute\nLuca Micheletta\,\nCoordinatore Dottorato in Studi Politici\,\nSapienza Università di Roma \nPresiede\nGabriele Natalizia\,\nProfessore di Sicurezza e Politica\ninternazionale\, Sapienza Università di Roma
URL:https://geopolitica.info/evento/diplomazia-della-sicurezza/
LOCATION:Aula C – Sapienza Università di Roma\, Piazzale Aldo Moro 5\, Roma\, 00185\, Italy
CATEGORIES:Evento in presenza
END:VEVENT
BEGIN:VEVENT
DTSTART;TZID=Europe/Rome:20260320T160000
DTEND;TZID=Europe/Rome:20260320T190000
DTSTAMP:20260425T183501
CREATED:20260317T081642Z
LAST-MODIFIED:20260317T082706Z
UID:53428-1774022400-1774033200@geopolitica.info
SUMMARY:Diplomazia della crescita
DESCRIPTION:Interviene:\nMauro Battocchi\, MAECI \nDiscutono:\nDavide Bergami\, MAECI\nSimone Nisi\, Edison\nRoberto Neglia\, Confindustria Nautica \nPresiede:\nEmma Galli\,\nSapienza Univ. Roma
URL:https://geopolitica.info/evento/diplomazia-della-crescita-4/
LOCATION:Aula C – Sapienza Università di Roma\, Piazzale Aldo Moro 5\, Roma\, 00185\, Italy
CATEGORIES:Evento in presenza
END:VEVENT
BEGIN:VEVENT
DTSTART;TZID=Europe/Rome:20260326T173000
DTEND;TZID=Europe/Rome:20260326T190000
DTSTAMP:20260425T183501
CREATED:20260325T083835Z
LAST-MODIFIED:20260325T083835Z
UID:53530-1774546200-1774551600@geopolitica.info
SUMMARY:Presentazione del Geopolitical Brief n°54 del Centro Studi Geopolitica.info
DESCRIPTION:Presentazione del Geopolitical Brief n°54 del Centro Studi Geopolitica.info \n“Decifrare la minaccia ibrida: attori\, strumenti e risposte nell’era della competizione sotto soglia” \nSaluti: \nParuvana Volkmann\, Direttrice Konrad Adenauer Stiftung \nKeynote Speech: \nDaniela Pistoia\, Elettronica Group \nPresentano il Geopolitical Brief: \nAnna Calabrese\, Centro Studi Geopolitica.info \nAnnalaura Di Michele\, Athena Centro Studi \nDiscute: \nGiorgio Volta\, Centro Alti Studi Difesa \nWalter Rauti\, Shield SDA Bocconi \nModera: \nFrancesca Traldi\, Konrad Adenauer Stiftung
URL:https://geopolitica.info/evento/presentazione-del-geopolitical-brief-n54-del-centro-studi-geopolitica-info/
LOCATION:Konrad Adenauer Stiftung\, Corso del Rinascimento\, 52\, 00186\, Roma\, 00186\, Italy
CATEGORIES:Evento in presenza
END:VEVENT
BEGIN:VEVENT
DTSTART;TZID=Europe/Rome:20260330T173000
DTEND;TZID=Europe/Rome:20260330T193000
DTSTAMP:20260425T183501
CREATED:20260327T164202Z
LAST-MODIFIED:20260327T164202Z
UID:53574-1774891800-1774899000@geopolitica.info
SUMMARY:Minacce non convenzionali nel Mediterraneo allargato: energia\, vulnerabilità delle reti e instabilità strategica
DESCRIPTION:RSVP: event@centrostudiamericani.org \nSaluti:\nRoberto Sgalla\, Centro Studi Americani\nParuvana Volkmann\, Konrad Adenauer Stiftung Italia \nPresenta il progetto:\nMatteo Mazziotti di Celso\, Institut de Recherche Stratégique de l’École Militaire \nDiscutono:\nGianfranco Annunziata\, Stato Maggiore della Difesa\nAlessia Chiriatti\, Istituto Affari Internazionali\nEnrico Della Gatta\, Fincantieri\nEmidio Diodato\, Università per Stranieri di Perugia\nGianluigi Vassallo\, Ministero degli Affari Esteri e della Cooperazione Internazionale\nIgor Malgieri\, Edison\nAndrea Manciulli\, MedOr Italian Foundation\nKarim Mezran\, Atlantic Council\nCecilia Emma Sottilotta\, Università per Stranieri di Perugia
URL:https://geopolitica.info/evento/minacce-non-convenzionali-nel-mediterraneo-allargato-energia-vulnerabilita-delle-reti-e-instabilita-strategica/
LOCATION:Centro Studi Americani\, Via Michelangelo Caetani 32\, Roma
CATEGORIES:Evento in presenza
END:VEVENT
BEGIN:VEVENT
DTSTART;TZID=Europe/Rome:20260420T160000
DTEND;TZID=Europe/Rome:20260420T190000
DTSTAMP:20260425T183501
CREATED:20260417T102702Z
LAST-MODIFIED:20260417T121916Z
UID:53782-1776700800-1776711600@geopolitica.info
SUMMARY:Presentazione del libro "The Economic impact of the South China disputes"
DESCRIPTION:Lunedì 20 aprile 2026\, ore 16:00\nSala Caduti di Nassirya – Palazzo Madama\, Piazza Madama 11\, Roma \nConferenza stampa di presentazione del libro \nAPERTURA DEI LAVORI\nSen. Giulio Terzi di Sant’Agata – Presidente della Commissione Politiche dell’Unione Europea del Senato della Repubblica \nSALUTI ISTITUZIONALI\nValentina Muiesan – Vice Direttrice per i Paesi dell’Asia e dell’Oceania\, Ministero degli Affari Esteri e della Cooperazione Internazionale\nNathaniel G. Imperial – Ambasciatore della Repubblica delle Filippine presso la Repubblica Italiana \nRELAZIONI E INTERVENTI\nDonatella Strangio – Professoressa Ordinaria di Storia Economica\, Sapienza Università di Roma\nGiulia Pompili – Giornalista de Il Foglio ed esperta di Asia\nStefano Pelaggi – Ricercatore\, Sapienza Università di Roma e Centro Studi Geopolitica.info \nModeratore: Matteo Angioli\, Segretario Generale del Comitato Globale per lo Stato di Diritto “Marco Pannella” \nL’accredito è obbligatorio. Giornalisti e ospiti sono pregati di registrarsi scrivendo a: matteo.angioli@senato.it
URL:https://geopolitica.info/evento/the-economic-impact-of-the-south-china-disputes/
LOCATION:Sala Caduti di Nassirya\, Palazzo Madama\, Piazza Madama 11\, Roma\, Italy
CATEGORIES:Evento in presenza,Presentazione Libro
ATTACH;FMTTYPE=image/jpeg:https://geopolitica.info/wp-content/uploads/2026/04/WhatsApp-Image-2026-04-17-at-11.00.46.jpeg
END:VEVENT
BEGIN:VEVENT
DTSTART;TZID=Europe/Rome:20260423T160000
DTEND;TZID=Europe/Rome:20260423T183000
DTSTAMP:20260425T183501
CREATED:20260422T094233Z
LAST-MODIFIED:20260422T094233Z
UID:53857-1776960000-1776969000@geopolitica.info
SUMMARY:Taming the president: Trump\, the Advisory System\, and Mechanisms of Us Foreign Policy Decision-making
DESCRIPTION:Spring 2025\, “Robert Elgie” Brown Bag Seminars on Politics \nApril 23\, 2026 – 4 p.m.\, Room B (Department of Political Sciences\, Second floor) \nAndrea Locatelli\, Catholic University of Sacred Heart \nAndrea Carati\, University of Milan \nLiliana Nitti\, Roma Tre University
URL:https://geopolitica.info/evento/taming-the-president-trump-the-advisory-system-and-mechanisms-of-us-foreign-policy-decision-making/
LOCATION:Dipartimento di Scienze politiche di Sapienza Università di Roma (Aula B)
CATEGORIES:Evento in presenza
ATTACH;FMTTYPE=image/jpeg:https://geopolitica.info/wp-content/uploads/2026/04/WhatsApp-Image-2026-04-22-at-11.29.58.jpeg
END:VEVENT
BEGIN:VEVENT
DTSTART;TZID=Europe/Rome:20260424T160000
DTEND;TZID=Europe/Rome:20260424T190000
DTSTAMP:20260425T183501
CREATED:20260422T095046Z
LAST-MODIFIED:20260422T095149Z
UID:53860-1777046400-1777057200@geopolitica.info
SUMMARY:Il dossier Sud-est asiatico
DESCRIPTION:Dialoghi sulla politica internazionale – quarta edizione \n24 aprile\, ore 16. Centro Studi Americani \nRoberto Sgalla\, Centro Studi Americani \nValentina Muiesan\, MAECI \nAurora Buzzo\, Fincantieri \nRaffaele Cadin\, Sapienza Univ. Roma \nLorenzo Termine\, EUI\, Centro Studi Geopolitica.info
URL:https://geopolitica.info/evento/il-dossier-sud-est-asiatico/
LOCATION:Centro Studi Americani\, Via Michelangelo Caetani 32\, Roma
CATEGORIES:Evento in presenza
ATTACH;FMTTYPE=image/jpeg:https://geopolitica.info/wp-content/uploads/2026/04/WhatsApp-Image-2026-04-22-at-11.44.28.jpeg
END:VEVENT
END:VCALENDAR