BEGIN:VCALENDAR
VERSION:2.0
PRODID:-//Geopolitica.info - ECPv6.15.20//NONSGML v1.0//EN
CALSCALE:GREGORIAN
METHOD:PUBLISH
X-ORIGINAL-URL:https://geopolitica.info
X-WR-CALDESC:Eventi per Geopolitica.info
REFRESH-INTERVAL;VALUE=DURATION:PT1H
X-Robots-Tag:noindex
X-PUBLISHED-TTL:PT1H
BEGIN:VTIMEZONE
TZID:Europe/Rome
BEGIN:DAYLIGHT
TZOFFSETFROM:+0100
TZOFFSETTO:+0200
TZNAME:CEST
DTSTART:20240331T010000
END:DAYLIGHT
BEGIN:STANDARD
TZOFFSETFROM:+0200
TZOFFSETTO:+0100
TZNAME:CET
DTSTART:20241027T010000
END:STANDARD
BEGIN:DAYLIGHT
TZOFFSETFROM:+0100
TZOFFSETTO:+0200
TZNAME:CEST
DTSTART:20250330T010000
END:DAYLIGHT
BEGIN:STANDARD
TZOFFSETFROM:+0200
TZOFFSETTO:+0100
TZNAME:CET
DTSTART:20251026T010000
END:STANDARD
BEGIN:DAYLIGHT
TZOFFSETFROM:+0100
TZOFFSETTO:+0200
TZNAME:CEST
DTSTART:20260329T010000
END:DAYLIGHT
BEGIN:STANDARD
TZOFFSETFROM:+0200
TZOFFSETTO:+0100
TZNAME:CET
DTSTART:20261025T010000
END:STANDARD
END:VTIMEZONE
BEGIN:VEVENT
DTSTART;TZID=Europe/Rome:20250623T163000
DTEND;TZID=Europe/Rome:20250623T190000
DTSTAMP:20260425T125718
CREATED:20250620T152310Z
LAST-MODIFIED:20250620T152310Z
UID:50790-1750696200-1750705200@geopolitica.info
SUMMARY:Global and Regional Governance in a Multicentric World - Hybrid Threats and Modern Political Warfare: The Architecture of Cross-Domain Conflict
DESCRIPTION:Il Dipartimento di Scienze Politiche di Sapienza Università di Roma\, in collaborazione con il Centro Studi Geopolitica.info\, organizza le sessioni di lavoro “Global and Regional Governance in a Multicentric World” e “Hybrid Threats and Modern Political Warfare: The Architecture of Cross-Domain Conflict”. \nGli incontri si terranno il prossimo 23 giugno\, dalle ore 16:30\, presso l’aula 8 – terzo piano del Dipartimento di Scienza Politica. \nClicca qui per il programma completo! \nPer partecipare è gradita la registrazione al form online.
URL:https://geopolitica.info/evento/global-and-regional-governance-in-a-multicentric-world-hybrid-threats-and-modern-political-warfare-the-architecture-of-cross-domain-conflict/
LOCATION:Dipartimento di Scienze politiche di Sapienza Università di Roma
CATEGORIES:Evento in presenza
ATTACH;FMTTYPE=image/png:https://geopolitica.info/wp-content/uploads/2025/06/23june-scaled.png
END:VEVENT
END:VCALENDAR