BEGIN:VCALENDAR
VERSION:2.0
PRODID:-//Geopolitica.info - ECPv6.15.20//NONSGML v1.0//EN
CALSCALE:GREGORIAN
METHOD:PUBLISH
X-ORIGINAL-URL:https://geopolitica.info
X-WR-CALDESC:Eventi per Geopolitica.info
REFRESH-INTERVAL;VALUE=DURATION:PT1H
X-Robots-Tag:noindex
X-PUBLISHED-TTL:PT1H
BEGIN:VTIMEZONE
TZID:Europe/Rome
BEGIN:DAYLIGHT
TZOFFSETFROM:+0100
TZOFFSETTO:+0200
TZNAME:CEST
DTSTART:20250330T010000
END:DAYLIGHT
BEGIN:STANDARD
TZOFFSETFROM:+0200
TZOFFSETTO:+0100
TZNAME:CET
DTSTART:20251026T010000
END:STANDARD
BEGIN:DAYLIGHT
TZOFFSETFROM:+0100
TZOFFSETTO:+0200
TZNAME:CEST
DTSTART:20260329T010000
END:DAYLIGHT
BEGIN:STANDARD
TZOFFSETFROM:+0200
TZOFFSETTO:+0100
TZNAME:CET
DTSTART:20261025T010000
END:STANDARD
BEGIN:DAYLIGHT
TZOFFSETFROM:+0100
TZOFFSETTO:+0200
TZNAME:CEST
DTSTART:20270328T010000
END:DAYLIGHT
BEGIN:STANDARD
TZOFFSETFROM:+0200
TZOFFSETTO:+0100
TZNAME:CET
DTSTART:20271031T010000
END:STANDARD
END:VTIMEZONE
BEGIN:VEVENT
DTSTART;TZID=Europe/Rome:20260326T173000
DTEND;TZID=Europe/Rome:20260326T190000
DTSTAMP:20260424T223208
CREATED:20260325T083835Z
LAST-MODIFIED:20260325T083835Z
UID:53530-1774546200-1774551600@geopolitica.info
SUMMARY:Presentazione del Geopolitical Brief n°54 del Centro Studi Geopolitica.info
DESCRIPTION:Presentazione del Geopolitical Brief n°54 del Centro Studi Geopolitica.info \n“Decifrare la minaccia ibrida: attori\, strumenti e risposte nell’era della competizione sotto soglia” \nSaluti: \nParuvana Volkmann\, Direttrice Konrad Adenauer Stiftung \nKeynote Speech: \nDaniela Pistoia\, Elettronica Group \nPresentano il Geopolitical Brief: \nAnna Calabrese\, Centro Studi Geopolitica.info \nAnnalaura Di Michele\, Athena Centro Studi \nDiscute: \nGiorgio Volta\, Centro Alti Studi Difesa \nWalter Rauti\, Shield SDA Bocconi \nModera: \nFrancesca Traldi\, Konrad Adenauer Stiftung
URL:https://geopolitica.info/evento/presentazione-del-geopolitical-brief-n54-del-centro-studi-geopolitica-info/
LOCATION:Konrad Adenauer Stiftung\, Corso del Rinascimento\, 52\, 00186\, Roma\, 00186\, Italy
CATEGORIES:Evento in presenza
END:VEVENT
END:VCALENDAR