BEGIN:VCALENDAR
VERSION:2.0
PRODID:-//Geopolitica.info - ECPv6.15.20//NONSGML v1.0//EN
CALSCALE:GREGORIAN
METHOD:PUBLISH
X-WR-CALNAME:Geopolitica.info
X-ORIGINAL-URL:https://geopolitica.info
X-WR-CALDESC:Eventi per Geopolitica.info
REFRESH-INTERVAL;VALUE=DURATION:PT1H
X-Robots-Tag:noindex
X-PUBLISHED-TTL:PT1H
BEGIN:VTIMEZONE
TZID:Europe/Rome
BEGIN:DAYLIGHT
TZOFFSETFROM:+0100
TZOFFSETTO:+0200
TZNAME:CEST
DTSTART:20230326T010000
END:DAYLIGHT
BEGIN:STANDARD
TZOFFSETFROM:+0200
TZOFFSETTO:+0100
TZNAME:CET
DTSTART:20231029T010000
END:STANDARD
BEGIN:DAYLIGHT
TZOFFSETFROM:+0100
TZOFFSETTO:+0200
TZNAME:CEST
DTSTART:20240331T010000
END:DAYLIGHT
BEGIN:STANDARD
TZOFFSETFROM:+0200
TZOFFSETTO:+0100
TZNAME:CET
DTSTART:20241027T010000
END:STANDARD
BEGIN:DAYLIGHT
TZOFFSETFROM:+0100
TZOFFSETTO:+0200
TZNAME:CEST
DTSTART:20250330T010000
END:DAYLIGHT
BEGIN:STANDARD
TZOFFSETFROM:+0200
TZOFFSETTO:+0100
TZNAME:CET
DTSTART:20251026T010000
END:STANDARD
BEGIN:DAYLIGHT
TZOFFSETFROM:+0100
TZOFFSETTO:+0200
TZNAME:CEST
DTSTART:20260329T010000
END:DAYLIGHT
BEGIN:STANDARD
TZOFFSETFROM:+0200
TZOFFSETTO:+0100
TZNAME:CET
DTSTART:20261025T010000
END:STANDARD
BEGIN:DAYLIGHT
TZOFFSETFROM:+0100
TZOFFSETTO:+0200
TZNAME:CEST
DTSTART:20270328T010000
END:DAYLIGHT
BEGIN:STANDARD
TZOFFSETFROM:+0200
TZOFFSETTO:+0100
TZNAME:CET
DTSTART:20271031T010000
END:STANDARD
END:VTIMEZONE
BEGIN:VEVENT
DTSTART;TZID=Europe/Rome:20241210T193000
DTEND;TZID=Europe/Rome:20241210T203000
DTSTAMP:20260426T025446
CREATED:20241118T143131Z
LAST-MODIFIED:20241119T165613Z
UID:48537-1733859000-1733862600@geopolitica.info
SUMMARY:Open Days. Tirocinio con Geopolitica.info
DESCRIPTION:Vuoi collaborare con noi? \nIl Centro Studi Geopolitica.info si apre al pubblico: presenteremo le possibilità di collaborazione con il Centro Studi e spiegheremo le procedure di selezione per i tirocini\, con qualche consiglio per perfezionare la presentazione della candidatura. \nInoltre\, parleremo di tutte le altre possibilità di entrare a far parte del Centro Studi e di collaborare con noi. \nGiuseppe Blasetti\, Coordinatore Risorse Umane\, Centro Studi Geopolitica.info \nMargherita Butti\, Coordinatrice Comunicazione\, Centro Studi Geopolitica.info \nL’evento è gratuito\, iscriviti qui. \nAttenzione: una volta compilato il Form di Google\, ricordati di copiare il link Zoom! \nPartecipando all’evento accetti che l’evento sia registrato e condiviso sui canali social del Centro Studi.
URL:https://geopolitica.info/evento/open-days-tirocinio-con-geopolitica-info-3/
LOCATION:Zoom
CATEGORIES:Evento online
ATTACH;FMTTYPE=image/jpeg:https://geopolitica.info/wp-content/uploads/2024/11/Open-days-10-dicembre-scaled.jpeg
END:VEVENT
BEGIN:VEVENT
DTSTART;TZID=Europe/Rome:20260423T153000
DTEND;TZID=Europe/Rome:20260423T170000
DTSTAMP:20260426T025446
CREATED:20260410T120344Z
LAST-MODIFIED:20260420T083452Z
UID:53700-1776958200-1776963600@geopolitica.info
SUMMARY:Exploring the Philippines and Italy Defense Partnerships: Opportunities and Trajectory
DESCRIPTION:23 April 2026 | 3:30 – 5:00 PM (GMT+8) or 9:30 – 11:00 AM (UTC+2) | Via Zoom \nModerator: Mr. Matteo Piasentini\nSpeakers: Dr. Lorenzo Termine – Mr. Vincent Kyla Parada – Dr. Stefano Pelaggi\n \nRegistration: https://www.amadorresearchservices.com/so/14PrrOYjS?languageTag=en
URL:https://geopolitica.info/evento/exploring-the-philippines-and-italy-defense-partnerships-opportunities-and-trajectory/
LOCATION:Zoom
CATEGORIES:Evento online
ATTACH;FMTTYPE=image/jpeg:https://geopolitica.info/wp-content/uploads/2026/04/Locandina_evento20aprile.jpeg
END:VEVENT
END:VCALENDAR