BEGIN:VCALENDAR
VERSION:2.0
PRODID:-//Geopolitica.info - ECPv6.15.20//NONSGML v1.0//EN
CALSCALE:GREGORIAN
METHOD:PUBLISH
X-ORIGINAL-URL:https://geopolitica.info
X-WR-CALDESC:Eventi per Geopolitica.info
REFRESH-INTERVAL;VALUE=DURATION:PT1H
X-Robots-Tag:noindex
X-PUBLISHED-TTL:PT1H
BEGIN:VTIMEZONE
TZID:Europe/Rome
BEGIN:DAYLIGHT
TZOFFSETFROM:+0100
TZOFFSETTO:+0200
TZNAME:CEST
DTSTART:20190331T010000
END:DAYLIGHT
BEGIN:STANDARD
TZOFFSETFROM:+0200
TZOFFSETTO:+0100
TZNAME:CET
DTSTART:20191027T010000
END:STANDARD
BEGIN:DAYLIGHT
TZOFFSETFROM:+0100
TZOFFSETTO:+0200
TZNAME:CEST
DTSTART:20200329T010000
END:DAYLIGHT
BEGIN:STANDARD
TZOFFSETFROM:+0200
TZOFFSETTO:+0100
TZNAME:CET
DTSTART:20201025T010000
END:STANDARD
BEGIN:DAYLIGHT
TZOFFSETFROM:+0100
TZOFFSETTO:+0200
TZNAME:CEST
DTSTART:20210328T010000
END:DAYLIGHT
BEGIN:STANDARD
TZOFFSETFROM:+0200
TZOFFSETTO:+0100
TZNAME:CET
DTSTART:20211031T010000
END:STANDARD
END:VTIMEZONE
BEGIN:VEVENT
DTSTART;TZID=Europe/Rome:20200529T190000
DTEND;TZID=Europe/Rome:20200529T203000
DTSTAMP:20260425T011810
CREATED:20211025T132118Z
LAST-MODIFIED:20211025T132118Z
UID:34367-1590778800-1590784200@geopolitica.info
SUMMARY:Webinar “Vulnerabili: come la pandemia cambierà il mondo”
DESCRIPTION:Vulnerabili: come la pandemia cambierà il mondo \nPresentazione del libro di Vittorio Emanuele Parsi  \nProfessore di Relazioni internazionali\, Università Cattolica di Milano \nNe parlano con l’autore \nAnna Zafesova – Giornalista La Stampa \nFabio Lavagno – Sinologo \nIntroduce \nGabriele Natalizia – Sapienza Università di Roma\, Geopolitica.info \nModera \nMara Morini – Università di Genova \nIl webinar è organizzato dallo Standing Group Russia e Spazio post-sovietico in collaborazione con il Centro Studi Geopolitica.info. L’accesso è gratuito su prenotazione. \nIl webinar si terrà in via telematica sulla piattaforma Zoom. La prenotazione dell’evento deve essere fatta necessariamente su Eventbrite. Una volta completata la registrazione si riceveranno i codici di accesso alla conferenza. \nVenerdì 29 maggio\, 19.00 – 20.30
URL:https://geopolitica.info/evento/webinar-vulnerabili-come-la-pandemia-cambiera-il-mondo/
CATEGORIES:Evento online
ATTACH;FMTTYPE=image/png:https://geopolitica.info/wp-content/uploads/2020/05/Vulnerabili-29-banner.png
END:VEVENT
BEGIN:VEVENT
DTSTART;TZID=Europe/Rome:20200523T180000
DTEND;TZID=Europe/Rome:20200523T193000
DTSTAMP:20260425T011810
CREATED:20211025T132451Z
LAST-MODIFIED:20211025T132451Z
UID:34374-1590256800-1590262200@geopolitica.info
SUMMARY:Webinar “Lobbying al tempo del Coronavirus: la regolamentazione della rappresentanza di interessi”
DESCRIPTION:“Lobbying al tempo del Coronavirus: la regolamentazione della rappresentanza di interessi” \nSabato 23 maggio\, ore 18.00 – 19.30 \nModera \nGabriele Vargiu – CNH Industrial\, Geopolitica.info \nIntroduce \nAlessia Piccinini – Geopolitica.info \nIntervengono \nGianluca Ansalone – Novartis \nFabio Bistoncini – FB & Associati \nMattia Diletti – Sapienza Università di Roma \nLicia Soncini – Nomos Centro Studi Parlamentari \nMarco Sonsini – Telos A&S \nIl workshop è organizzato dal Centro Studi Geopolitica.info. \nL’accesso è gratuito su prenotazione. Il workshop si terrà in via telematica sulla piattaforma Zoom. La prenotazione dell’evento deve essere fatta necessariamente su Eventbrite. Una volta completata la registrazione si riceveranno i codici di accesso alla conferenza.
URL:https://geopolitica.info/evento/webinar-lobbying-al-tempo-del-coronavirus-la-regolamentazione-della-rappresentanza-di-interessi/
CATEGORIES:Evento online
ATTACH;FMTTYPE=image/png:https://geopolitica.info/wp-content/uploads/2020/05/Lobby.png
END:VEVENT
BEGIN:VEVENT
DTSTART;VALUE=DATE:20200521
DTEND;VALUE=DATE:20200522
DTSTAMP:20260425T011810
CREATED:20211025T132735Z
LAST-MODIFIED:20211025T132735Z
UID:34377-1590019200-1590105599@geopolitica.info
SUMMARY:Aperitivo con: Joost Flamand\, Ambasciatore dei Paesi Bassi in Italia
DESCRIPTION:L’Ambasciatore dei Paesi Bassi in Italia Joost Flamand dialoga con Giangiacomo Calovini – Coordinatore Europa Geopolitica.info \nTorna Aperitivo con…! La serie di incontri organizzata da Geopolitica.info per creare un ambiente di dialogo e confronto con rappresentanti delle istituzioni\, accademici\, giornalisti e professionisti. \nL’accesso è gratuito su prenotazione. \nIl workshop si terrà in via telematica sulla piattaforma Zoom. La prenotazione dell’evento deve essere fatta necessariamente su Eventbrite. Una volta completata la registrazione si riceveranno i codici di accesso alla conferenza.
URL:https://geopolitica.info/evento/aperitivo-con-joost-flamand-ambasciatore-dei-paesi-bassi-in-italia/
CATEGORIES:Evento online
ATTACH;FMTTYPE=image/png:https://geopolitica.info/wp-content/uploads/2020/05/Amb.-Olandese-1.png
END:VEVENT
BEGIN:VEVENT
DTSTART;VALUE=DATE:20200520
DTEND;VALUE=DATE:20200521
DTSTAMP:20260425T011810
CREATED:20211025T133239Z
LAST-MODIFIED:20211025T133239Z
UID:34381-1589932800-1590019199@geopolitica.info
SUMMARY:Diretta Facebook – Spotlight Taiwan
DESCRIPTION:In occasione della cerimonia di insediamento di Tsai Ing-wen mercoledì 20 maggio 2020 dalle ore 12 una diretta dedicata a Taiwan sul profilo FB di Geopolitica.info \nCon giornalisti\, analisti e studiosi dell’Asia Pacifico e delle dinamiche taiwanese parleremo del futuro della democrazia a Taiwan\, del ruolo sempre più centrale dell’isola negli equilibri geostrategici mondiali\, del successo nella lotta alla pandemia e di molto altro. \nSiamo orgogliosi di comunicare che la diretta ospiterà\, alle 12\, un intervento del Rappresentante di Taiwan in Italia\, l’Ambasciatore Andrea Lee. \nCi saranno anche il presidente e il vicepresidente dall’Associazione parlamentare Amicizia Italia-Taiwan\, il Senatore Lucio Malan e l’Onorevole Marco Di Maio e il Presidente del Comitato Globale per lo Stato di Diritto “Marco Pannella”\, l’Ambasciatore Giulio Terzi. \nL’incontro sarà soprattutto un’occasione per ascoltare i giornalisti e gli studiosi che si occupano di Taiwan e della regione Asia Pacifico. \nLa giornalista Giulia Pompili che dalle pagine del Foglio ci racconta la proiezione cinese in Italia\, e in Europa\, mentre con la newsletter Katane ci offre ogni settimana un inedito spaccato delle società asiatiche. Lorenzo Lamperti\, esperto della regione\, giornalista di Affari Internazionali e collaboratore di China Files. Da Bangkok il corrispondente per l’Asia di Radio Radicale Francesco Radicioni\, curatore di Asiatica e della Rassegna della stampa e della blogsfera cinese. Laura Harth del Comitato Globale per lo Stato di Diritto “Marco Pannella”. In collegamento da Taipei due studiosi che si occupano di Taiwan Giuseppe Carteny e Fabrizio Bozzato. Da Roma Raffaele Cazzola e molti altri ancora. \nCollegatevi sul profilo Facebook di Geopolitica.info alle 12 di mercoledì 20 maggio. \nQui di seguito la lista – provvisoria – dei partecipanti. Interverranno tra gli altri \nRappresentante di Taiwan in Italia – Ambasciatore Andrea Lee \nPresidente Associazione parlamentare Amicizia Italia-Taiwan – Senatore Lucio Malan \nVicepresidente Associazione parlamentare Amicizia Italia Taiwan – Onorevole Marco Di Maio \nPresidente del Comitato Globale per lo Stato di Diritto “Marco Pannella” – Ambasciatore Giulio Terzi \nGiornalista del Foglio e curatrice della newsletter Katane – Giulia Pompili \nGiornalista di Affari Italiani ed esperto di Asia Pacifico – Lorenzo Lamperti \nRadio Radicale – Francesco Radicioni \nComitato Globale per lo Stato di Diritto “Marco Pannella” – Laura Harth \nAnalista di Geopolitica.info e Research fellow alla NTU di Taipei – Giuseppe Carteny \nAnalista CEMAS Sapienza e research fellow al Taiwan Center for International Strategic Studies (TCISS) – Fabrizio Bozzato \nSenior associate Strategic Advice – Raffaele Cazzola
URL:https://geopolitica.info/evento/diretta-facebook-spotlight-taiwan/
CATEGORIES:Evento online
ATTACH;FMTTYPE=image/jpeg:https://geopolitica.info/wp-content/uploads/2020/05/Taiwan-Live.jpeg
END:VEVENT
BEGIN:VEVENT
DTSTART;VALUE=DATE:20200516
DTEND;VALUE=DATE:20200517
DTSTAMP:20260425T011810
CREATED:20211025T133505Z
LAST-MODIFIED:20211025T133505Z
UID:34385-1589587200-1589673599@geopolitica.info
SUMMARY:Workshop online “Sanzioni internazionali: le conseguenze sui rapporti tra UE\, Russia e Iran”
DESCRIPTION:“Sanzioni internazionali: le conseguenze sui rapporti tra Ue\, Russia e Iran” \n16 maggio 2020 – 18:00 \nModera: \nAndrea Merlo – Geopolitica.info \nIntervengono: \nGiulia Levi – Studio legale Padovan \nGiangiacomo Calovini – Geopolitica.info \nGiuseppe Di Luccia – Studio legale Padovan \nIl workshop è organizzato dal Centro Studi Geopolitica.info e l’accesso è aperto su prenotazione. \nIl workshop si terrà in via telematica sulla piattaforma Zoom. La prenotazione dell’evento deve essere fatta necessariamente su Eventbrite. Una volta completata la registrazione si riceveranno i codici di accesso alla conferenza.
URL:https://geopolitica.info/evento/workshop-online-sanzioni-internazionali-le-conseguenze-sui-rapporti-tra-ue-russia-e-iran/
CATEGORIES:Evento online
ATTACH;FMTTYPE=image/png:https://geopolitica.info/wp-content/uploads/2020/05/Locandina-16-aggiornata.png
END:VEVENT
BEGIN:VEVENT
DTSTART;VALUE=DATE:20200515
DTEND;VALUE=DATE:20200516
DTSTAMP:20260425T011810
CREATED:20211025T134221Z
LAST-MODIFIED:20211025T134221Z
UID:34387-1589500800-1589587199@geopolitica.info
SUMMARY:Italy-China Trade Relations. A Historical Perspective
DESCRIPTION:Presentazione volume Springer Studies in Economic History \nVenerdì 15 maggio ore 12:00 \n“Italy – China Trade Relations. A Historical perspective” \nDi Donatella Strangio \nProfessore di Storia Economica Sapienza Università di Roma \nSaluti istituzionali: \nEugenio Gaudio – Rettore Sapienza Università di Roma \nAntonello Biagini – Rettore Unitelma Sapienza \nNe parleranno: \nEmanuele De Maigret – Ambasciata Generale d’Italia in Cina \nCristiano Varotti – Responsabile ENIT in Cina \nStefano Pelaggi – Sapienza Università di Roma\, Geopolitica.info \nSarà presente l’autrice. \nIl workshop è organizzato dal Centro Studi Geopolitica.info e l’accesso è aperto su prenotazione. \nIl workshop si terrà in via telematica sulla piattaforma Zoom. La prenotazione dell’evento deve essere fatta necessariamente su Eventbrite. Una volta completata la registrazione si riceveranno i codici di accesso alla conferenza. \nItaly-China-Trade-RelationsDownload
URL:https://geopolitica.info/evento/italy-china-trade-relations-a-historical-perspective/
CATEGORIES:Evento online,Presentazione Libro
ATTACH;FMTTYPE=image/png:https://geopolitica.info/wp-content/uploads/2020/05/China.png
END:VEVENT
BEGIN:VEVENT
DTSTART;TZID=Europe/Rome:20200509T180000
DTEND;TZID=Europe/Rome:20200509T193000
DTSTAMP:20260425T011810
CREATED:20211025T134408Z
LAST-MODIFIED:20211025T134408Z
UID:34389-1589047200-1589052600@geopolitica.info
SUMMARY:Workshop online “Export Control – Dual Use e Armamenti”
DESCRIPTION:Workshop online: “Export control – dual use e armamenti” nell’ambito della XIV Winter School in Geopolitica e Relazioni Internazionali. \nIl workshop è organizzato dal Centro Studi Geopolitica.info nell’ambito della XIV Winter School in Geopolitica e Relazioni Internazionali ma l’accesso è aperto anche agli esterni su prenotazione. \nIntroduce: \nAlessandro Savini – Osservatorio sulla Difesa Euro-Atlantica Geopolitica.info \nModera: \nAndrea Merlo – Geopolitica.info \nIntervengono: \nManuel Venuti – Studio Legale Padovan \nGianandrea Gaiani – Analisi Difesa \nIl workshop si terrà in via telematica sulla piattaforma Zoom. La prenotazione dell’evento deve essere fatta necessariamente su Eventbrite. Una volta completata la registrazione si riceveranno i codici di accesso alla conferenza. \nSabato 9 maggio\, 18.00 – 19.30
URL:https://geopolitica.info/evento/workshop-online-export-control-dual-use-e-armamenti/
CATEGORIES:Evento online
ATTACH;FMTTYPE=image/png:https://geopolitica.info/wp-content/uploads/2020/05/Export-control.png
END:VEVENT
BEGIN:VEVENT
DTSTART;TZID=Europe/Rome:20200509T150000
DTEND;TZID=Europe/Rome:20200509T163000
DTSTAMP:20260425T011810
CREATED:20211025T135420Z
LAST-MODIFIED:20211025T140500Z
UID:34391-1589036400-1589041800@geopolitica.info
SUMMARY:Workshop online “La trappola di Tucidide: Stati Uniti e Cina nel XXI secolo”
DESCRIPTION:Workshop online “La trappola di Tucidide: Stati Uniti e Cina nel XXI secolo” nell’ambito della XIV Winter School in Geopolitica e Relazioni Internazionali. \nIl workshop è organizzato dal Centro Studi Geopolitica.info in collaborazione con Starting Finance all’interno della XIV Winter School in Geopolitica e Relazioni Internazionali. Se si è iscritti alla Winter School\, al momento della prenotazione selezionare “Biglietto partecipante Winter School 2020”. In caso contrario\, al momento della prenotazione selezionare “Prenotazione ingresso” \nModera: \nFrancesco Cirillo\, Starting Finance \nIntervengono: \nGabriele Natalizia\, Sapienza Università di Roma \nLorenzo Termine\, Sapienza Università di Roma \nFlavia Lucenti\, Università degli Studi Roma Tre \nIl workshop si terrà in via telematica sulla piattaforma Zoom. La prenotazione dell’evento deve essere fatta necessariamente su Eventbrite. \n9 maggio 2020\, ore 15.00 – 16.30
URL:https://geopolitica.info/evento/workshop-online-la-trappola-di-tucidide-stati-uniti-e-cina-nel-xxi-secolo/
CATEGORIES:Evento online
ATTACH;FMTTYPE=image/png:https://geopolitica.info/wp-content/uploads/2020/03/9_maggio.png
END:VEVENT
BEGIN:VEVENT
DTSTART;TZID=Europe/Rome:20200502T150000
DTEND;TZID=Europe/Rome:20200502T163000
DTSTAMP:20260425T011810
CREATED:20211025T135604Z
LAST-MODIFIED:20211027T133416Z
UID:34394-1588431600-1588437000@geopolitica.info
SUMMARY:Workshop online “Coronavirus: quali alleati per l’Italia"
DESCRIPTION:Workshop online “Coronavirus: quali alleati per l’Italia?” nell’ambito della XIV Winter School in Geopolitica e Relazioni Internazionali. \nIl workshop è organizzato dal Centro Studi Geopolitica.info nell’ambito della XIV Winter School in Geopolitica e Relazioni Internazionali ma l’accesso è aperto anche agli esterni su prenotazione. \nModera: \nAndrea Merlo – Geopolitica.info \nIntervengono: \nEnrico Borghi – Camera dei Deputati \nDaniele Capezzone – La Verità \nLuca Frusone – Camera dei Deputati \nMarco Osnato – Camera dei Deputati \nIl workshop si terrà in via telematica sulla piattaforma Zoom. La prenotazione dell’evento deve essere fatta necessariamente su Eventbrite. Una volta completata la registrazione si riceveranno i codici di accesso alla conferenza. \n2 maggio 2020\, ore 15:00 – 16.30
URL:https://geopolitica.info/evento/eventi-workshop-online-coronavirus-quali-alleati-per-litalia/
CATEGORIES:Evento online
ATTACH;FMTTYPE=image/png:https://geopolitica.info/wp-content/uploads/2020/04/0-1.png
END:VEVENT
BEGIN:VEVENT
DTSTART;TZID=Europe/Rome:20200425T103000
DTEND;TZID=Europe/Rome:20200425T120000
DTSTAMP:20260425T011810
CREATED:20211025T140104Z
LAST-MODIFIED:20211025T140104Z
UID:34396-1587810600-1587816000@geopolitica.info
SUMMARY:Workshop online “Ascesa\, consolidamento e declino di un egemone. Il caso degli Stati Uniti nel post-Guerra fredda”
DESCRIPTION:Workshop Online “Ascesa\, consolidamento e declino di un egemone. Il caso degli Stati Uniti nel post-Guerra fredda” nell’ambito della XIV Winter School in Geopolitica e Relazioni Internazionali. \nCon:\nGabriele Natalizia\, Coordinatore del Centro Studi Geopolitica.info; Docente di Relazioni Internazionali – Sapienza Università di Roma \nIl workshop si terrà in via telematica sulla piattaforma Zoom. La prenotazione dell’evento deve essere fatta necessariamente su Eventbrite. \n25 aprile 2020\, ore 10:30-12:00
URL:https://geopolitica.info/evento/workshop-online-ascesa-consolidamento-e-declino-di-un-egemone-il-caso-degli-stati-uniti-nel-post-guerra-fredda/
CATEGORIES:Evento online
ATTACH;FMTTYPE=image/png:https://geopolitica.info/wp-content/uploads/2020/04/15_Aprile-1.png
END:VEVENT
BEGIN:VEVENT
DTSTART;TZID=Europe/Rome:20200418T150000
DTEND;TZID=Europe/Rome:20200418T160000
DTSTAMP:20260425T011810
CREATED:20211025T140722Z
LAST-MODIFIED:20211025T140722Z
UID:34401-1587222000-1587225600@geopolitica.info
SUMMARY:Workshop online “Lo stato delle relazioni tra Iran e Stati Uniti”
DESCRIPTION:Workshop online “Lo stato delle relazioni tra Iran e Stati Uniti” nell’ambito della XIV Winter School in Geopolitica e Relazioni Internazionali. \nIl workshop si terrà in via telematica sulla piattaforma Zoom. La prenotazione dell’evento deve essere fatta necessariamente su Eventbrite. \nInterviene: Marco Provvidera\, Centro Studi Geopolitica.info\nCommenta: Lorenzo Zacchi\, Centro Studi Geopolitica.info \nIl workshop si terrà in via telematica sulla piattaforma Zoom. La prenotazione dell’evento deve essere fatta necessariamente su Eventbrite. \n18 aprile 2020\, ore 15.00 – 16.00
URL:https://geopolitica.info/evento/workshop-online-lo-stato-delle-relazioni-tra-iran-e-stati-uniti/
CATEGORIES:Evento online
ATTACH;FMTTYPE=image/png:https://geopolitica.info/wp-content/uploads/2020/03/18_aprile.png
END:VEVENT
BEGIN:VEVENT
DTSTART;TZID=Europe/Rome:20200411T150000
DTEND;TZID=Europe/Rome:20200411T163000
DTSTAMP:20260425T011810
CREATED:20211025T140358Z
LAST-MODIFIED:20211025T140358Z
UID:34398-1586617200-1586622600@geopolitica.info
SUMMARY:Workshop online “Unione Europea: Le sfide della digital transformation”
DESCRIPTION:Workshop online “Unione Europea: Le sfide della digital transformation” nell’ambito della XIV Winter School in Geopolitica e Relazioni Internazionali. \nIl workshop è organizzato dal Centro Studi Geopolitica.info in collaborazione con Youth IGF Italy all’interno della XIV Winter School in Geopolitica e Relazioni Internazionali. Se si è iscritti alla Winter School\, al momento della prenotazione selezionare “Biglietto partecipante Winter School 2020”. In caso contrario\, al momento della prenotazione selezionare “Prenotazione ingresso” \nINTERVENGONO:\nGiacomo Mazzone\, Direttore Relazioni Istituzionali UER-EBU\, Giornalista RAI\nGianluigi Arena\, Consulente di Direzione INAIL\nValentino Notarangelo\, Data Protection Officer presso Fondazione Santa Lucia IRCCS \nCOMMENTA:\nDomenico Fiormonte\, Università degli Studi Roma Tre \nIl workshop si terrà in via telematica sulla piattaforma Zoom. La prenotazione dell’evento deve essere fatta necessariamente su Eventbrite. \n11 aprile 2020\, ore 15.00 – 16.30 \n\n\nYouth IGF ItalyDownload
URL:https://geopolitica.info/evento/workshop-online-unione-europea-le-sfide-della-digital-transformation/
CATEGORIES:Evento online
ATTACH;FMTTYPE=image/png:https://geopolitica.info/wp-content/uploads/2020/03/3.png
END:VEVENT
END:VCALENDAR