BEGIN:VCALENDAR
VERSION:2.0
PRODID:-//Geopolitica.info - ECPv6.15.20//NONSGML v1.0//EN
CALSCALE:GREGORIAN
METHOD:PUBLISH
X-WR-CALNAME:Geopolitica.info
X-ORIGINAL-URL:https://geopolitica.info
X-WR-CALDESC:Eventi per Geopolitica.info
REFRESH-INTERVAL;VALUE=DURATION:PT1H
X-Robots-Tag:noindex
X-PUBLISHED-TTL:PT1H
BEGIN:VTIMEZONE
TZID:Europe/Rome
BEGIN:DAYLIGHT
TZOFFSETFROM:+0100
TZOFFSETTO:+0200
TZNAME:CEST
DTSTART:20190331T010000
END:DAYLIGHT
BEGIN:STANDARD
TZOFFSETFROM:+0200
TZOFFSETTO:+0100
TZNAME:CET
DTSTART:20191027T010000
END:STANDARD
BEGIN:DAYLIGHT
TZOFFSETFROM:+0100
TZOFFSETTO:+0200
TZNAME:CEST
DTSTART:20200329T010000
END:DAYLIGHT
BEGIN:STANDARD
TZOFFSETFROM:+0200
TZOFFSETTO:+0100
TZNAME:CET
DTSTART:20201025T010000
END:STANDARD
BEGIN:DAYLIGHT
TZOFFSETFROM:+0100
TZOFFSETTO:+0200
TZNAME:CEST
DTSTART:20210328T010000
END:DAYLIGHT
BEGIN:STANDARD
TZOFFSETFROM:+0200
TZOFFSETTO:+0100
TZNAME:CET
DTSTART:20211031T010000
END:STANDARD
END:VTIMEZONE
BEGIN:VEVENT
DTSTART;VALUE=DATE:20201019
DTEND;VALUE=DATE:20201020
DTSTAMP:20260424T205524
CREATED:20211025T125236Z
LAST-MODIFIED:20211025T125236Z
UID:34358-1603065600-1603151999@geopolitica.info
SUMMARY:Presentazione del libro “Galassia Islamica. Le ragioni del terrore” di Sandro Menichelli
DESCRIPTION:“Galassia islamica. Le ragioni del terrore” è un saggio d’approfondimento e divulgazione che si propone di decifrare in modo corretto non soltanto il complesso fenomeno del terrorismo di matrice religiosa\, ma anche l’Islam in quanto religione ed ideologia. Gli attacchi terroristici che hanno colpito l’Europa dal 2015 hanno portato di nuovo in auge il fenomeno della radicalizzazione\, del martirio\, dei foreign fighters e dei lupi solitari. Tuttavia\, il dibattito pubblico e politico in materia è stato caratterizzato anche da una mancata profondità di analisi e da una tendenza eurocentrica a considerare l’Islam come un enorme monolito. L’autore Sandro Menichelli\, direttore dell’Ispettorato di Pubblica Sicurezza presso la Camera dei Deputati e con esperienze in missioni nazionali e internazionali per la prevenzione e il contrasto del terrorismo\, dell’immigrazione illegale e della criminalità organizzata\, va oltre la visione semplicistica che abbiamo del terrorismo di matrice religiosa per tracciare i tratti distintivi di questa religione\, andando ad analizzare le caratteristiche del fondamentalismo islamico come deviazione dell’interpretazione del messaggio coranico. Il volume si chiude con un’attenta disamina dell’Islam in Italia e delle strategie elaborate a livello nazionale ed europeo per prevenire e reprimere i fenomeni terroristici legati alla radicalizzazione. \nNe parlano con l’autore \nAlessandro Ricci Università di Roma “Tor Vergata”\, Geopolitica.info \nLorenzo Zacchi Coordinatore area MENA Geopolitica.info \nDavide Marcantoni Geopolitica.info \nThomas Bastianelli Geopolitica.info \nModera \nAlessia Piccinini Geopolitica.info \nPer i partecipanti “PROMOZIONE AMICI DEL SAPERE” per l’acquisto del libro senza spese di spedizione. \nPer info: ordini@intermediaedizioni.it \nIl webinar è organizzato dal Centro Studi Geopolitica.info.\nL’accesso è gratuito su prenotazione. Il webinar si terrà in via telematica sulla piattaforma Zoom. La prenotazione dell’evento deve essere fatta necessariamente su Eventbrite. Una volta completata la registrazione si riceveranno i codici di accesso alla conferenza.
URL:https://geopolitica.info/evento/presentazione-del-libro-galassia-islamica-le-ragioni-del-terrore-di-sandro-menichelli/
CATEGORIES:Evento online,Presentazione Libro
ATTACH;FMTTYPE=image/jpeg:https://geopolitica.info/wp-content/uploads/2020/09/Prima_GALASSIA-ISLAMICA.jpg
END:VEVENT
BEGIN:VEVENT
DTSTART;VALUE=DATE:20200830
DTEND;VALUE=DATE:20200831
DTSTAMP:20260424T205524
CREATED:20211025T131817Z
LAST-MODIFIED:20211025T131817Z
UID:34363-1598745600-1598831999@geopolitica.info
SUMMARY:Presentazione del libro “Tripoli\, Italia. La politica di potenza nel Mediterraneo e la crisi dell'ordine internazionale”
DESCRIPTION:La politica di potenza nel Mediterraneo e la crisi dell’ordine internazionale”\, di recente pubblicato\, per Castelvecchi Editore\, a cura di Antonello Folco Biagini\, Magnifico Rettore di Unitelma Sapienza. L’opera si pregia dei contributi di Antonello Folco Biagini\, Claudio Bertolotti\, Andrea Carteny\, Gabriele Natalizia\, Leonardo Palma\, Salvatore Santangelo\, Lorenzo Termine\, Elena Tosti Di Stefano\, Alessandro Vagnini. \nUn’interessante trattazione che illustra cometradizionalmente il ruolo geopolitico del Mar Mediterraneo sia duplice: a volte agisce come elemento di separazione tra Paesi\, altre contribuisce all’emergere di una vera e propria osmosi tra sponde opposte. È il caso del rapporto tra Italia e Libia\, la cui interdipendenza è tornata a essere – anche a chi se ne era per lungo tempo dimenticato – un’evidenza incontrovertibile. \n\nGli effetti del disordine che sconvolge il Paese nordafricano sin dal 2011 si ripercuotono direttamente sulla nostra Penisola. Minacce alla sicurezza\, questione dei migranti\, corridoi energetici e interessi economici a rischio\, diffusione del fenomeno del radicalismo islamico sono solo alcuni dei capitoli in cima all’agenda di Roma. Il tutto a soli dieci anni da quelle Primavere arabe che avevano attirato l’attenzione dell’opinione pubblica mondiale.Il Libro\, che sarà presentato a Porta Branconia da Salvatore Santangelo e Gaetano Quagliariello ponendo particolare attenzione ai fattori internazionali che gravano su di esso e che tanto hanno contribuito a delineare lo scenario di uno Stato fallito a pochi chilometri dalla Penisola.\nSullo sfondo\, l’ipotesi che la crisi dell’ordine nel Mediterraneo non sia che un riflesso della più ampia crisi dell’ordine internazionale a guida americana.
URL:https://geopolitica.info/evento/presentazione-del-libro-tripoli-italia-la-politica-di-potenza-nel-mediterraneo-e-la-crisi-dellordine-internazionale/
LOCATION:Porta Branconia
CATEGORIES:Presentazione Libro
ATTACH;FMTTYPE=image/jpeg:https://geopolitica.info/wp-content/uploads/2020/08/00579450-0b08-4e18-adfa-bfde7c908c22.jpeg
END:VEVENT
BEGIN:VEVENT
DTSTART;VALUE=DATE:20200515
DTEND;VALUE=DATE:20200516
DTSTAMP:20260424T205524
CREATED:20211025T134221Z
LAST-MODIFIED:20211025T134221Z
UID:34387-1589500800-1589587199@geopolitica.info
SUMMARY:Italy-China Trade Relations. A Historical Perspective
DESCRIPTION:Presentazione volume Springer Studies in Economic History \nVenerdì 15 maggio ore 12:00 \n“Italy – China Trade Relations. A Historical perspective” \nDi Donatella Strangio \nProfessore di Storia Economica Sapienza Università di Roma \nSaluti istituzionali: \nEugenio Gaudio – Rettore Sapienza Università di Roma \nAntonello Biagini – Rettore Unitelma Sapienza \nNe parleranno: \nEmanuele De Maigret – Ambasciata Generale d’Italia in Cina \nCristiano Varotti – Responsabile ENIT in Cina \nStefano Pelaggi – Sapienza Università di Roma\, Geopolitica.info \nSarà presente l’autrice. \nIl workshop è organizzato dal Centro Studi Geopolitica.info e l’accesso è aperto su prenotazione. \nIl workshop si terrà in via telematica sulla piattaforma Zoom. La prenotazione dell’evento deve essere fatta necessariamente su Eventbrite. Una volta completata la registrazione si riceveranno i codici di accesso alla conferenza. \nItaly-China-Trade-RelationsDownload
URL:https://geopolitica.info/evento/italy-china-trade-relations-a-historical-perspective/
CATEGORIES:Evento online,Presentazione Libro
ATTACH;FMTTYPE=image/png:https://geopolitica.info/wp-content/uploads/2020/05/China.png
END:VEVENT
END:VCALENDAR