BEGIN:VCALENDAR
VERSION:2.0
PRODID:-//Geopolitica.info - ECPv6.15.20//NONSGML v1.0//EN
CALSCALE:GREGORIAN
METHOD:PUBLISH
X-ORIGINAL-URL:https://geopolitica.info
X-WR-CALDESC:Eventi per Geopolitica.info
REFRESH-INTERVAL;VALUE=DURATION:PT1H
X-Robots-Tag:noindex
X-PUBLISHED-TTL:PT1H
BEGIN:VTIMEZONE
TZID:Europe/Rome
BEGIN:DAYLIGHT
TZOFFSETFROM:+0100
TZOFFSETTO:+0200
TZNAME:CEST
DTSTART:20200329T010000
END:DAYLIGHT
BEGIN:STANDARD
TZOFFSETFROM:+0200
TZOFFSETTO:+0100
TZNAME:CET
DTSTART:20201025T010000
END:STANDARD
BEGIN:DAYLIGHT
TZOFFSETFROM:+0100
TZOFFSETTO:+0200
TZNAME:CEST
DTSTART:20210328T010000
END:DAYLIGHT
BEGIN:STANDARD
TZOFFSETFROM:+0200
TZOFFSETTO:+0100
TZNAME:CET
DTSTART:20211031T010000
END:STANDARD
BEGIN:DAYLIGHT
TZOFFSETFROM:+0100
TZOFFSETTO:+0200
TZNAME:CEST
DTSTART:20220327T010000
END:DAYLIGHT
BEGIN:STANDARD
TZOFFSETFROM:+0200
TZOFFSETTO:+0100
TZNAME:CET
DTSTART:20221030T010000
END:STANDARD
BEGIN:DAYLIGHT
TZOFFSETFROM:+0100
TZOFFSETTO:+0200
TZNAME:CEST
DTSTART:20230326T010000
END:DAYLIGHT
BEGIN:STANDARD
TZOFFSETFROM:+0200
TZOFFSETTO:+0100
TZNAME:CET
DTSTART:20231029T010000
END:STANDARD
END:VTIMEZONE
BEGIN:VEVENT
DTSTART;TZID=Europe/Rome:20221017T120000
DTEND;TZID=Europe/Rome:20221017T133000
DTSTAMP:20260425T153352
CREATED:20221012T173520Z
LAST-MODIFIED:20221012T173729Z
UID:40367-1666008000-1666013400@geopolitica.info
SUMMARY:Inaugurazione SERID
DESCRIPTION:  \nLa Scuola di Economia\, Relazioni Internazionali e Diplomazia (SERID) organizza l’evento di inaugurazione della Scuola che si terrà il 17 ottobre 2022 a partire dalle ore 12:00 in aula 6 e in diretta streaming su YouTube. \nUniversità degli Studi Internazionali di Roma – UNINT Via Cristoforo Colombo\, 200 00154 Roma \nProgramma \nSaluti istituzionali \nAlessandro De Nisco\, preside della Facoltà di Economia \nPresentazione della Scuola \nSanja Vlahovic\, direttrice scientifica SERID e docente UNINT\nLorenzo Termine\, ricercatore Centro Studi Geopolitica.info \nLectio magistralis: Navigare nelle relazioni internazionali del XXI secolo \nGabriele Checchia\, già ambasciatore d’Italia presso la NATO e presso l’OCSE \n  \nStudenti UNINT e pubblico esterno possono prenotare il posto in aula al seguente link: \nRegistrati all’evento in presenza \nPer partecipare alla diretta streaming è necessario registrarsi al seguente link: \nRegistrati all’evento in diretta streaming \nPartecipa alla diretta streaming \nLa SERID è organizzata dalla Facoltà di Economia dell’Università degli Studi Internazionali di Roma – UNINT in collaborazione con il Centro Studi Geopolitica.info e il Centro di Ricerca “Cooperazione con l’Eurasia\, il Mediterraneo e l’Africa Subsahariana” (CEMAS) di Sapienza Università di Roma.
URL:https://geopolitica.info/evento/inaugurazione-serid/
LOCATION:Università degli Studi Internazionali di Roma – UNINT Via Cristoforo Colombo\, 200 00154 Roma
END:VEVENT
BEGIN:VEVENT
DTSTART;VALUE=DATE:20210622
DTEND;VALUE=DATE:20210623
DTSTAMP:20260425T153352
CREATED:20211018T130224Z
LAST-MODIFIED:20211018T133711Z
UID:34104-1624320000-1624406399@geopolitica.info
SUMMARY:Presentazione libro: Open Diplomacy
DESCRIPTION:Presentazione del libro “Open Diplomacy” di Marco Alberti. \n\nInterviene\nMarco Alberti\, Senior International InstitutionalAffairs Officer di ENEL \nIntroduce\nGabriele Natalizia\, Sapienza Università di Roma \nModera\nRaimondo Fabbri\, Fondazione FareFuturo \nNe discute con i Desk Infrastrutture ed Energia e Cyber e Tech del Centro Studi Geopolitica.info\nAntonello Assogna\, Ilaria De Angelis\, Fabrizio Anselmo\, Gianmarco Donolato\, Raffaele Ventura\, Alessia Sposini \nIl webinar è organizzato dal Centro Studi Geopolitica.info in collaborazione con la Fondazione Ezio Tarantelli. L’accesso è gratuito su prenotazione. Il webinar si terrà in via telematica sulla piattaforma zoom. La prenotazione dell’evento deve essere fatta necessariamente su Eventbrite. Una volta completata la registrazione si riceveranno i codici di accesso alla conferenza.
URL:https://geopolitica.info/evento/presentazione-libro-open-diplomacy-martedi-22-giugno-ore-1900-webinar-zoom/
CATEGORIES:Evento online,Presentazione Libro
ATTACH;FMTTYPE=image/png:https://geopolitica.info/wp-content/uploads/2021/06/Isacco-Eventi-FacebookSito-3.png
END:VEVENT
END:VCALENDAR