BEGIN:VCALENDAR
VERSION:2.0
PRODID:-//Geopolitica.info - ECPv6.15.20//NONSGML v1.0//EN
CALSCALE:GREGORIAN
METHOD:PUBLISH
X-ORIGINAL-URL:https://geopolitica.info
X-WR-CALDESC:Eventi per Geopolitica.info
REFRESH-INTERVAL;VALUE=DURATION:PT1H
X-Robots-Tag:noindex
X-PUBLISHED-TTL:PT1H
BEGIN:VTIMEZONE
TZID:Europe/Rome
BEGIN:DAYLIGHT
TZOFFSETFROM:+0100
TZOFFSETTO:+0200
TZNAME:CEST
DTSTART:20200329T010000
END:DAYLIGHT
BEGIN:STANDARD
TZOFFSETFROM:+0200
TZOFFSETTO:+0100
TZNAME:CET
DTSTART:20201025T010000
END:STANDARD
BEGIN:DAYLIGHT
TZOFFSETFROM:+0100
TZOFFSETTO:+0200
TZNAME:CEST
DTSTART:20210328T010000
END:DAYLIGHT
BEGIN:STANDARD
TZOFFSETFROM:+0200
TZOFFSETTO:+0100
TZNAME:CET
DTSTART:20211031T010000
END:STANDARD
BEGIN:DAYLIGHT
TZOFFSETFROM:+0100
TZOFFSETTO:+0200
TZNAME:CEST
DTSTART:20220327T010000
END:DAYLIGHT
BEGIN:STANDARD
TZOFFSETFROM:+0200
TZOFFSETTO:+0100
TZNAME:CET
DTSTART:20221030T010000
END:STANDARD
BEGIN:DAYLIGHT
TZOFFSETFROM:+0100
TZOFFSETTO:+0200
TZNAME:CEST
DTSTART:20230326T010000
END:DAYLIGHT
BEGIN:STANDARD
TZOFFSETFROM:+0200
TZOFFSETTO:+0100
TZNAME:CET
DTSTART:20231029T010000
END:STANDARD
END:VTIMEZONE
BEGIN:VEVENT
DTSTART;TZID=Europe/Rome:20220207T180000
DTEND;TZID=Europe/Rome:20220207T190000
DTSTAMP:20260425T122200
CREATED:20220121T095914Z
LAST-MODIFIED:20220211T092701Z
UID:35928-1644256800-1644260400@geopolitica.info
SUMMARY:Le sfide della transizione energetica e delle materie prime. Nuove dipendenze e questioni geopolitiche
DESCRIPTION:La transizione energetica sta sollevando numerosi problemi per gli Stati alle prese con nuove forme di dipendenza cui far fronte. Il processo che condurrà alla neutralità carbonica entro il 2050 sta determinando l’importanza strategica di risorse minerarie\, terre rare in particolare\, ed una corsa al loro approvvigionamento. Da ciò deriveranno nuovi e diversi rischi di natura economica\, produttiva\, ambientale e sociale oltre alle inevitabili ripercussioni nelle dinamiche geopolitiche. \n  \nSaluti iniziali: \nGabriele Natalizia\, Coordinatore Geopolitica.info \n  \nIntroduce: \nAntonello Assogna\, Fondazione Tarantelli \n  \nIntervengono: \nGiovanni Brussato\, Ingegnere minerario e autore di “Energia verde? Prepariamoci a scavare” \nGianclaudio Torlizzi\, Fondatore di T-Commodity e autore di “Materia rara” \n  \nModera: \nRaimondo Fabbri\, Geopolitica.info \n  \nWebinar Zoom\, lunedì 7 febbraio ore 18:00-19:00 \n  \nPer iscriverti all’evento clicca QUI \n  \nPartecipando all’evento accetti che l’evento sia registrato e condiviso sui canali social del Centro Studi.
URL:https://geopolitica.info/evento/le-sfide-della-transizione-energetica-e-delle-materie-prime-nuove-dipendenze-e-questioni-geopolitiche/
CATEGORIES:Evento online
ATTACH;FMTTYPE=image/png:https://geopolitica.info/wp-content/uploads/2022/01/Isacco-Eventi-FacebookSito-17.png
END:VEVENT
BEGIN:VEVENT
DTSTART;TZID=Europe/Rome:20211108T173000
DTEND;TZID=Europe/Rome:20211108T183000
DTSTAMP:20260425T122200
CREATED:20211029T102931Z
LAST-MODIFIED:20211029T192524Z
UID:34451-1636392600-1636396200@geopolitica.info
SUMMARY:Presentazione del volume: Transizione ecologica\, energetica e lavoro
DESCRIPTION:La transizione ecologica implica una serie di questioni trasversali che coinvolgono tutti i settori produttivi e dei servizi. Non sarà un passaggio facile né veloce visto che richiederà del tempo per raggiungere gli obiettivi prefissati nelle sedi internazionali\, tra cui la riduzione delle emissioni di Co2 del 55% (rispetto a quelle del 1990) entro il 2030 ed emissioni nette pari a zero entro il 2050. In questa prospettiva emergono degli aspetti decisivi sia rispetto all’accesso all’energia che per quanto riguarda i costi sociali della transizione ovvero le ricadute sul lavoro. Questi alcuni dei temi affrontati dal nuovo volume firmato da Angelo Colombini\, Cosmo Colonna e Antonello Assogna\, dal titolo\, “Transizione ecologica\, energetica e lavoro” per la Collana Società Circolare di Edizioni Lavoro. Un libro frutto della collaborazione tra persone provenienti da esperienze e ruoli diversi che offre un primo quadro generale riguardo alle questioni che si intersecano con la transizione ecologica\, a cominciare da quella energetica che rappresenta le maggiori criticità e complessità. \n  \nWebinar\, 8 novembre ore 17:30-18:30 @zoom \n  \nIntroduce Gabriele Natalizia (coordinatore Geopolitica.info) \n  \nIntervengono: \nAntonello Assogna\, Fondazione Ezio Tarantelli e autore del libro “Transizione ecologica\, energetica e lavoro. Problemi e esperienze”; \nAngelo Colombini\, segretario confederale CISL e autore del libro “Transizione ecologica\, energetica e lavoro. Problemi e esperienze”; \nFlaminia Camilletti\, giornalista e scrittrice \n  \nModera Raimondo Fabbri (Geopolitica.info)
URL:https://geopolitica.info/evento/presentazione-del-volume-transizione-ecologica-energetica-e-lavoro/
CATEGORIES:Evento online,Presentazione Libro
ATTACH;FMTTYPE=image/png:https://geopolitica.info/wp-content/uploads/2021/10/Isacco-Eventi-FacebookSito-5.png
END:VEVENT
END:VCALENDAR