BEGIN:VCALENDAR
VERSION:2.0
PRODID:-//Geopolitica.info - ECPv6.15.20//NONSGML v1.0//EN
CALSCALE:GREGORIAN
METHOD:PUBLISH
X-ORIGINAL-URL:https://geopolitica.info
X-WR-CALDESC:Eventi per Geopolitica.info
REFRESH-INTERVAL;VALUE=DURATION:PT1H
X-Robots-Tag:noindex
X-PUBLISHED-TTL:PT1H
BEGIN:VTIMEZONE
TZID:Europe/Rome
BEGIN:DAYLIGHT
TZOFFSETFROM:+0100
TZOFFSETTO:+0200
TZNAME:CEST
DTSTART:20230326T010000
END:DAYLIGHT
BEGIN:STANDARD
TZOFFSETFROM:+0200
TZOFFSETTO:+0100
TZNAME:CET
DTSTART:20231029T010000
END:STANDARD
BEGIN:DAYLIGHT
TZOFFSETFROM:+0100
TZOFFSETTO:+0200
TZNAME:CEST
DTSTART:20240331T010000
END:DAYLIGHT
BEGIN:STANDARD
TZOFFSETFROM:+0200
TZOFFSETTO:+0100
TZNAME:CET
DTSTART:20241027T010000
END:STANDARD
BEGIN:DAYLIGHT
TZOFFSETFROM:+0100
TZOFFSETTO:+0200
TZNAME:CEST
DTSTART:20250330T010000
END:DAYLIGHT
BEGIN:STANDARD
TZOFFSETFROM:+0200
TZOFFSETTO:+0100
TZNAME:CET
DTSTART:20251026T010000
END:STANDARD
END:VTIMEZONE
BEGIN:VEVENT
DTSTART;VALUE=DATE:20240520
DTEND;VALUE=DATE:20240521
DTSTAMP:20260424T204318
CREATED:20240517T203235Z
LAST-MODIFIED:20240517T203514Z
UID:47031-1716163200-1716249599@geopolitica.info
SUMMARY:A che serve questo G7?
DESCRIPTION:Data e ora\nLun\, 20 mag 2024 18:45 – 20:00 CEST \n\n\n\n\n\n\n\n\n\n\n\n\nLocalità\n\n\n\nLuiss Loft\, 32 Viale Romania 00197 Roma \n\nInformazioni sull’evento\n\n\n1 ora 15 minuti\n\n\n\n\n\nDal 13 al 15 giugno l’Italia ospiterà la riunione annuale del G7 nel resort di Borgo Egnazia\, in Puglia. I leader si incontrano in un momento delicato\, sospesi tra l’estensione della guerra\, con i conflitti in corso in Ucraina\, Medio Oriente e Mar Rosso\, lungo quasi tutte le frontiere europee. A questa instabilità geopolitica si aggiungono le sfide economiche e industriali: la globalizzazione arretra a causa di dazi\, competizione commerciale tra Stati\, rallentamento delle catene logistiche\, la rivalità tra Stati Uniti e Cina è sempre più importante e il Sud globale reclama più spazio nei consessi internazionali. \nIl prossimo lunedì del Grand Continent sarà dunque dedicato a una domanda: a cosa serve questo G7? \nPer discuterne abbiamo invitato: \n\nPiero Benassi\, ambasciatore\, ex consigliere diplomatico del Presidente del Consiglio\nFlavia Lucenti\, ricercatrice LUISS\nLorenzo Termine\, docente Unint\, ricercatore centro studi geopolitica.info\nNathalie Tocci\, direttrice Istituto Affari Internazionali\n\nCome tutti i lunedì del Grand Continent\, l’ingresso è libero ma è necessario registrarsi. \nREGISTRATI ALL’EVENTO QUI \nOrganizzato da: Il Grand Continent \n 
URL:https://geopolitica.info/evento/a-che-serve-questo-g7/
LOCATION:Luiss Loft\, 32 Viale Romania 00197 Roma
CATEGORIES:Evento in presenza
ATTACH;FMTTYPE=image/jpeg:https://geopolitica.info/wp-content/uploads/2024/05/https___cdn.evbuc_.com_images_769134179_1813287628943_1_original.jpeg
END:VEVENT
END:VCALENDAR