BEGIN:VCALENDAR
VERSION:2.0
PRODID:-//Geopolitica.info - ECPv6.15.20//NONSGML v1.0//EN
CALSCALE:GREGORIAN
METHOD:PUBLISH
X-WR-CALNAME:Geopolitica.info
X-ORIGINAL-URL:https://geopolitica.info
X-WR-CALDESC:Eventi per Geopolitica.info
REFRESH-INTERVAL;VALUE=DURATION:PT1H
X-Robots-Tag:noindex
X-PUBLISHED-TTL:PT1H
BEGIN:VTIMEZONE
TZID:Europe/Rome
BEGIN:DAYLIGHT
TZOFFSETFROM:+0100
TZOFFSETTO:+0200
TZNAME:CEST
DTSTART:20200329T010000
END:DAYLIGHT
BEGIN:STANDARD
TZOFFSETFROM:+0200
TZOFFSETTO:+0100
TZNAME:CET
DTSTART:20201025T010000
END:STANDARD
BEGIN:DAYLIGHT
TZOFFSETFROM:+0100
TZOFFSETTO:+0200
TZNAME:CEST
DTSTART:20210328T010000
END:DAYLIGHT
BEGIN:STANDARD
TZOFFSETFROM:+0200
TZOFFSETTO:+0100
TZNAME:CET
DTSTART:20211031T010000
END:STANDARD
BEGIN:DAYLIGHT
TZOFFSETFROM:+0100
TZOFFSETTO:+0200
TZNAME:CEST
DTSTART:20220327T010000
END:DAYLIGHT
BEGIN:STANDARD
TZOFFSETFROM:+0200
TZOFFSETTO:+0100
TZNAME:CET
DTSTART:20221030T010000
END:STANDARD
BEGIN:DAYLIGHT
TZOFFSETFROM:+0100
TZOFFSETTO:+0200
TZNAME:CEST
DTSTART:20230326T010000
END:DAYLIGHT
BEGIN:STANDARD
TZOFFSETFROM:+0200
TZOFFSETTO:+0100
TZNAME:CET
DTSTART:20231029T010000
END:STANDARD
BEGIN:DAYLIGHT
TZOFFSETFROM:+0100
TZOFFSETTO:+0200
TZNAME:CEST
DTSTART:20240331T010000
END:DAYLIGHT
BEGIN:STANDARD
TZOFFSETFROM:+0200
TZOFFSETTO:+0100
TZNAME:CET
DTSTART:20241027T010000
END:STANDARD
BEGIN:DAYLIGHT
TZOFFSETFROM:+0100
TZOFFSETTO:+0200
TZNAME:CEST
DTSTART:20250330T010000
END:DAYLIGHT
BEGIN:STANDARD
TZOFFSETFROM:+0200
TZOFFSETTO:+0100
TZNAME:CET
DTSTART:20251026T010000
END:STANDARD
END:VTIMEZONE
BEGIN:VEVENT
DTSTART;TZID=Europe/Rome:20241210T193000
DTEND;TZID=Europe/Rome:20241210T203000
DTSTAMP:20260424T193323
CREATED:20241118T143131Z
LAST-MODIFIED:20241119T165613Z
UID:48537-1733859000-1733862600@geopolitica.info
SUMMARY:Open Days. Tirocinio con Geopolitica.info
DESCRIPTION:Vuoi collaborare con noi? \nIl Centro Studi Geopolitica.info si apre al pubblico: presenteremo le possibilità di collaborazione con il Centro Studi e spiegheremo le procedure di selezione per i tirocini\, con qualche consiglio per perfezionare la presentazione della candidatura. \nInoltre\, parleremo di tutte le altre possibilità di entrare a far parte del Centro Studi e di collaborare con noi. \nGiuseppe Blasetti\, Coordinatore Risorse Umane\, Centro Studi Geopolitica.info \nMargherita Butti\, Coordinatrice Comunicazione\, Centro Studi Geopolitica.info \nL’evento è gratuito\, iscriviti qui. \nAttenzione: una volta compilato il Form di Google\, ricordati di copiare il link Zoom! \nPartecipando all’evento accetti che l’evento sia registrato e condiviso sui canali social del Centro Studi.
URL:https://geopolitica.info/evento/open-days-tirocinio-con-geopolitica-info-3/
LOCATION:Zoom
CATEGORIES:Evento online
ATTACH;FMTTYPE=image/jpeg:https://geopolitica.info/wp-content/uploads/2024/11/Open-days-10-dicembre-scaled.jpeg
END:VEVENT
BEGIN:VEVENT
DTSTART;VALUE=DATE:20240412
DTEND;VALUE=DATE:20240413
DTSTAMP:20260424T193323
CREATED:20240326T203350Z
LAST-MODIFIED:20240326T203350Z
UID:46360-1712880000-1712966399@geopolitica.info
SUMMARY:Il cibo come arma. Geopolitica delle risorse alimentari
DESCRIPTION:In occasione della Notte Europea della Geografia\, il prossimo 12 aprile dalle ore 19 si svolgerà a Roma presso il Circolo degli Esteri (Lungotevere dell’Acqua Acetosa\, 42\, 00197 Roma RM) un talk-dibattito sul ruolo del cibo nelle questioni geopolitiche globali. \nLe risorse alimentari svolgono un ruolo molto importante\, anche se non sempre evidente\, nei teatri della competizione globale: sono spesso coinvolte nei conflitti espressi militarmente a cui abbiamo assistito negli ultimi anni\, sono un fattore di rivalità culturale che può talvolta portare allo scontro aperto\, sono parte integrante dei contatti diplomatici e oggetto della trasformazione della geografia dei contatti internazionali e del modo di mangiare\, anche in virtù dei cambiamenti globali in atto. \nMODERA \nAndrea Iacomini\, Portavoce Unicef Italia \nSALUTANO \nNathan Levialdi\, Rettore dell’università di Roma Tor Vergata\nUmberto Vattani\, Presidente della Venice International University \nINTERVENGONO \nSimone Bozzato\, Università di Roma Tor Vergata\nAnna Maria Cossiga\, Fondazione Leonardo Med-Or\nGianluca Fiocco\, Università di Roma Tor Vergata\nAlessandro Ricci\, Università di Bergamo\nSara Roversi\, Future Food Institute\nJean-Léonard Touadi\, Fao\nGiovanna Giulia Zavettieri\, Università di Roma Tor Vergata \nNecessaria la prenotazione al LINK.\nBrindisi a seguire.
URL:https://geopolitica.info/evento/il-cibo-come-arma-geopolitica-delle-risorse-alimentari/
LOCATION:Circolo degli esteri\, Lungotevere dell’Acqua Acetosa\, 42\, 00197\, Roma RM\, Italia\, Italia
CATEGORIES:Evento in presenza
ATTACH;FMTTYPE=image/png:https://geopolitica.info/wp-content/uploads/2024/03/Sito-Stati-generali-dellinnovazione-sostenibile-1.png
END:VEVENT
BEGIN:VEVENT
DTSTART;TZID=Europe/Rome:20230523T180000
DTEND;TZID=Europe/Rome:20230523T200000
DTSTAMP:20260424T193323
CREATED:20230511T071047Z
LAST-MODIFIED:20230515T114256Z
UID:42826-1684864800-1684872000@geopolitica.info
SUMMARY:Geopolitica Orienta. Terza Edizione
DESCRIPTION:Geopolitica Orienta | Terza Edizione. \nStudi Scienze politiche e relazioni internazionali? Non sai cosa fare nel futuro? Geopolitica Orienta ritorna con la sua Terza edizione. L’evento nasce dalla volontà di far luce sulle possibilità di inserimento professionale che si aprono dopo aver conseguito la laurea in Scienze politiche e relazioni internazionali. A farlo sarà un folto gruppo di professionisti\, laureati in Scienze politiche e relazioni internazionali\, provenienti dall’eterogeneo bouquet di carriere percorribili. Non perderti l’evento! \n  \n\nIl concorso diplomatico\nMarianna Haddad MAECI – Ufficio V Direzione generale per le risorse e l’innovazione – Sezione I (concorsi\, procedure di selezione interne e tirocini)\n\n\nLavorare per le Istituzioni Europee\nIlaria De Angelis Commissione Europea\, Geopolitica.info\n\n\nGli uffici di Relazioni Istituzionali\nAlice Onore Associazione Nazionale Filiera Industria Automobilistica (ANFIA)\n\n\nIl mondo della comunicazione e social\nDemetrio Marino SHAPE IT.agency\n\n\nIl Dottorato e la carriera accademica\nAngelica Vascotto Università Cattolica del Sacro Cuore di Milano\, cotutela Università di Sarajevo\, Geopolitica.info\n\n\nI concorsi per la pubblica amministrazione\nCarolina Gonzalez Rodriguez Istituto nazionale della previdenza sociale (INPS)\n\nModera: Martina Mereni Geopolitica.info \n  \nL’evento è gratuito. REGISTRATI QUI! \nL’evento è organizzato dal Centro Studi Geopolitica.info\, con il patrocinio del Dipartimento di Scienze Politiche di Sapienza Università di Roma. \nPartecipando all’evento accetti che l’evento sia registrato e condiviso sui canali social del Centro Studi.
URL:https://geopolitica.info/evento/geopolitica-orienta-terza-edizione/
LOCATION:Zoom
CATEGORIES:Evento online
ATTACH;FMTTYPE=image/png:https://geopolitica.info/wp-content/uploads/2023/05/Geopolitica-Orienta-Terza-Edizione-Sito-TW-1.png
END:VEVENT
BEGIN:VEVENT
DTSTART;TZID=Europe/Rome:20230518T140000
DTEND;TZID=Europe/Rome:20230518T184500
DTSTAMP:20260424T193323
CREATED:20230515T100917Z
LAST-MODIFIED:20230516T071807Z
UID:42909-1684418400-1684435500@geopolitica.info
SUMMARY:FESTIVAL DI GEOPOLITICA E RELAZIONI INTERNAZIONALI - III EDIZIONE
DESCRIPTION:L’Università degli Studi Internazionali di Roma – UNINT e il Centro Studi Geopolitica.info\, presentano\, in collaborazione con GEODI – Centro di Ricerca di Geopolitica e Diritto comparato UNINT\, SERID – Scuola di economia\, relazioni internazionali e diplomazia UNINT\, CEMAS – Centro di ricerca cooperazione con l’Eurasia\, il Mediterraneo e l’Africa Sub-sahariana Sapienza Università di Roma\, DISPI – Dipartimento di scienze politiche e internazionali – Università di Genova e UNITELMA Università di Roma\, il “Festival di Geopolitica e Relazioni internazionali” che si terrà il giorno 18 maggio 2023 alle ore 14:00 in aula magna e in diretta streaming. \nL’evento è realizzato con il sostegno dell’Unità di Analisi\, Programmazione\, Statistica e Documentazione Storica del Ministero degli Affari Esteri e della Cooperazione Internazionali\, ai sensi dell’art. 23-bis del DPR 18/1967 \nProgramma\n14:00 – 14:15 SALUTI ISTITUZIONALI \nMaurizio Finicelli\, presidente commissione Terza Missione e CdA – UNINT \nAlessandro De Nisco\, preside della facoltà di Economia – UNINT \nCiro Sbailò\, preside della facoltà di Scienze della Politica e delle Dinamiche Psico-Sociali  – UNINT \nRodolfo Colaci\, Ministero degli Affari Esteri e della Cooperazione Internazionale \n  \n14:15 – 15:30\nPRIMA PARTE \nPresentazione di “La NATO verso il 2030. Continuità e discontinuità nelle relazioni transatlantiche dopo il nuovo concetto strategico” (a cura di Gabriele Natalizia e Lorenzo Termine) Bologna\, ed. il Mulino\, 2023.\nIntroduce e modera  \nGabriele Natalizia\, Sapienza Università di Roma\nIntervengono \nMara Morini\, Università di Genova \nJonathan Di Cicco\, Middle Tennessee State University\, Giancarlo Usai\, Rainews 24\n15:45 – 16:45 \nSECONDA PARTE \nDemocrazia\, pace e guerra: La politica estera americana e la promozione della democrazia. \nInterviene\nAlessandro Colombo\, Università degli Studi di Milano\n17.00 – 18.45 \nTERZA PARTE: Geopolitica della pace. La cultura unica via della pace \n  \nNe discutono: \nMarilina Rachel Veca\, giornalista e scrittrice \nGianmarco Pisa\, operatore di pace \n  \nDiscussione con studenti UNINT e con:\nAntonella Ercolani\, prorettrice per la Terza Missione UNINT \nSanja Vlahovic\, direttrice SERID – UNINT\nVisione del documentario “Books Not Bombs”\nSeguirà dibattito con Stefano Di Pietro\, regista del documentario e docente UNINT \n  \nComitato organizzativo \nAntonella Ercolani\, Università degli Studi Internazionali di Roma – UNINT \nGabriele Natalizia\, Sapienza Università di Roma \nLorenzo Termine\, Centro Studi Geopolitica.info \nPer partecipare in presenza è necessario registrarsi al seguente link: \nhttps://www.eventbrite.it/e/biglietti-festival-di-geopolitica-e-relazioni-internazionali-630670852497 \nPer partecipare da remoto è necessario registrarsi al seguente link: \nhttps://www.unint.eu/index.php?option=com_rsform&formId=507 \nScarica il programma qui: \nhttps://www.unint.eu/calendario-eventi/festival-di-geopolitica-e-relazioni-internazionali-iii-edizione.html
URL:https://geopolitica.info/evento/festival-di-geopolitica-e-relazioni-internazionali-iii-edizione/
LOCATION:Università degli Studi Internazionali di Roma – UNINT Via Cristoforo Colombo\, 200 00154 Roma
CATEGORIES:Evento in presenza
ATTACH;FMTTYPE=image/jpeg:https://geopolitica.info/wp-content/uploads/2023/05/2032240283-2023_05_18_festival_geopolitica-scaled.jpg
END:VEVENT
BEGIN:VEVENT
DTSTART;TZID=Europe/Rome:20210524T143000
DTEND;TZID=Europe/Rome:20210525T180000
DTSTAMP:20260424T193323
CREATED:20211018T132817Z
LAST-MODIFIED:20211018T133411Z
UID:34117-1621866600-1621965600@geopolitica.info
SUMMARY:Equilibrium. Festival di Geopolitica e Relazioni internazionali – Prima edizione 2021
DESCRIPTION:L’Università degli Studi Internazionali di Roma – UNINT e il Centro Studi Geopolitica.info presentano\, in collaborazione con GEODI – Centro di Ricerca di Geopolitica e Diritto comparato UNINT\, CEMAS Sapienza e Centro Studi Italia Canada\, “Equilibrium. Festival di Geopolitica e Relazioni internazionali” che si terrà nei giorni 24 e 25 maggio 2021 in diretta online. \nPer seguire l’evento sarà sufficiente collegarsi su Zoom al link: \nZoom: bit.ly/Equilibrium2021\nID riunione: 818 5215 9666\nPasscode: Eq2021 \n24 maggio 2021 \n14:30 – 15:00\nSaluti istituzionali\nAntonello Folco Biagini\, Rettore UNITELMA Sapienza\nCiro Sbailò\, Preside della Facoltà di Scienze della Politica e delle Dinamiche Psico-Sociali \n15:00 – 16:30\nL’America di Biden e il mondo\nKeynote Speech Mario Del Pero\, Sciences Po\nNe discutono Antonella Ercolani\, UNINT | Gabriele Natalizia\, Sapienza Università di Roma | Roberto Menotti\, Aspen Institute\nModera Lorenzo Termine\, Sapienza Università di Roma \n16:45 – 18:15\nNATO-Russia: Dalla Guerra fredda ad una pace calda?\nKeynote Speech Sonia Lucarelli\, Università di Bologna\nNe discutono Giorgio Cuzzelli\, UNINT | Mara Morini\, Università di Genova | Laura Borzi\, Centro Studi Italia Canada\nModera Amedeo Maddaluno\, Osservatorio Globalizzazione \n25 maggio 2021 \n9:45 – 11:30\nEuropea o globale: Il ruolo internazionale dell’Unione\nKeynote Speech Umberto Morelli\, Università di Torino\nNe discutono Stefano Beltrame\, MAECI | Maria Cristina Marchetti\, Sapienza Università di Roma | Sorina Soare\, Università di Firenze\nModera Elena Tosti Di Stefano\, Sapienza Università di Roma \n14:30 – 16:00\nSprings: l’eredità geopolitica delle Primavere Arabe\nKeynote Speech Ciro Sbailò\, UNINT\nNe discutono Pino Pisicchio\, UNINT | Maria Luisa Rossi Hawkins\, Mediaset | Paolo Quercia\, Università di Perugia\nModera Giuseppe Terranova\, UNINT \n16:15 – 17:45\nL’estate del 1914: proposte negoziali. Studenti nella simulazione di una crisi internazionale\nCoordina Lorenzo Trapassi\, MAECI \n\nComitato organizzativo \nAntonella Ercolani\, UNINT\nGabriele Natalizia\, Sapienza Università di Roma\nLorenzo Termine\, Sapienza Università di Roma\nGiuseppe Terranova\, UNINT\nLorenzo Riggi\, Centro Studi Geopolitica.info \n\nContatti:\nregistrazioni@geopolitica.info \n\nScarica il programmaDownload
URL:https://geopolitica.info/evento/equilibrium-festival-di-geopolitica-e-relazioni-internazionali-prima-edizione-2021/
CATEGORIES:Evento online
ATTACH;FMTTYPE=image/png:https://geopolitica.info/wp-content/uploads/2021/05/Equilibrium-banner-twitter.png
END:VEVENT
END:VCALENDAR