BEGIN:VCALENDAR
VERSION:2.0
PRODID:-//Geopolitica.info - ECPv6.15.20//NONSGML v1.0//EN
CALSCALE:GREGORIAN
METHOD:PUBLISH
X-WR-CALNAME:Geopolitica.info
X-ORIGINAL-URL:https://geopolitica.info
X-WR-CALDESC:Eventi per Geopolitica.info
REFRESH-INTERVAL;VALUE=DURATION:PT1H
X-Robots-Tag:noindex
X-PUBLISHED-TTL:PT1H
BEGIN:VTIMEZONE
TZID:Europe/Rome
BEGIN:DAYLIGHT
TZOFFSETFROM:+0100
TZOFFSETTO:+0200
TZNAME:CEST
DTSTART:20220327T010000
END:DAYLIGHT
BEGIN:STANDARD
TZOFFSETFROM:+0200
TZOFFSETTO:+0100
TZNAME:CET
DTSTART:20221030T010000
END:STANDARD
BEGIN:DAYLIGHT
TZOFFSETFROM:+0100
TZOFFSETTO:+0200
TZNAME:CEST
DTSTART:20230326T010000
END:DAYLIGHT
BEGIN:STANDARD
TZOFFSETFROM:+0200
TZOFFSETTO:+0100
TZNAME:CET
DTSTART:20231029T010000
END:STANDARD
BEGIN:DAYLIGHT
TZOFFSETFROM:+0100
TZOFFSETTO:+0200
TZNAME:CEST
DTSTART:20240331T010000
END:DAYLIGHT
BEGIN:STANDARD
TZOFFSETFROM:+0200
TZOFFSETTO:+0100
TZNAME:CET
DTSTART:20241027T010000
END:STANDARD
END:VTIMEZONE
BEGIN:VEVENT
DTSTART;TZID=Europe/Rome:20231202T090000
DTEND;TZID=Europe/Rome:20231202T160000
DTSTAMP:20260425T015052
CREATED:20231115T143328Z
LAST-MODIFIED:20231115T143651Z
UID:44861-1701507600-1701532800@geopolitica.info
SUMMARY:Corso intensivo in diretta online: Medio Oriente in fiamme. Comprendere il conflitto tra Hamas e Israele
DESCRIPTION:La guerra tra Israele e Hamas apre scenari geopolitici inediti e si fonda su presupposti spesso trascurati dai media internazionali. Il corso è volto a fornire gli strumenti idonei per comprendere il conflitto in atto e orientarsi nella babele del nuovo Medio Oriente. \nIl corso affronta il conflitto in atto partendo dai più rilevanti presupposti geopolitici\, religiosi e politici regionali.\n\nGli esperti ed esperte dei diversi settori offriranno agli studenti un quadro degli attori in campo\, delle questioni all’origine della guerra\, delle rivendicazioni territoriali e ideologiche\, nonché delle implicazioni in quella che già viene definita una nuova mappa del Medio Oriente\, tenendo conto sia delle conseguenze di carattere geopolitico sia di quelle di natura umanitaria. Al di fuori del panorama mediatico\, troppo schiacciato su opposti estremismi\, il corso intende fornire gli utili strumenti conoscitivi per orientarsi nella scacchiera del vicino Oriente. \n\n\n\n\n\nIl corso nasce per colmare un gap di informazione nei principali corsi universitari e per superare gli estremismi troppo spesso evidenziati nel panorama mediatico\, e soprattutto sui social media.\n\n\n\n\n\n\n\n\n\n\nCosa otterrai da questo corso\n\n\n\n\nComprenderai il conflitto tra Hamas e Israele con delle basi solide \nRifletterai sulle conseguenze geopolitiche ed umanitarie\nPotrai metterti alla prova con un elaborato che\, se valutato positivamente\, potrà essere pubblicato sul sito di www.geopolitica.info\nPotrai\, se approvato dalla tua Università\, ottenere CFU per il tuo corso triennale\, magistrale o master.\n\n\n\n\n\n\n\n\nVuoi saperne di più? Vuoi iscriverti?\nVai alla pagina del corso cliccando qui. \nPartecipando all’evento accetti che l’evento sia registrato e condiviso sui canali social del Centro Studi.
URL:https://geopolitica.info/evento/corso-intensivo-in-diretta-online-medio-oriente-in-fiamme-comprendere-il-conflitto-tra-hamas-e-israele/
LOCATION:Zoom
CATEGORIES:Corso intensivo
ATTACH;FMTTYPE=image/png:https://geopolitica.info/wp-content/uploads/2023/11/3.png
END:VEVENT
END:VCALENDAR