BEGIN:VCALENDAR
VERSION:2.0
PRODID:-//Geopolitica.info - ECPv6.15.20//NONSGML v1.0//EN
CALSCALE:GREGORIAN
METHOD:PUBLISH
X-WR-CALNAME:Geopolitica.info
X-ORIGINAL-URL:https://geopolitica.info
X-WR-CALDESC:Eventi per Geopolitica.info
REFRESH-INTERVAL;VALUE=DURATION:PT1H
X-Robots-Tag:noindex
X-PUBLISHED-TTL:PT1H
BEGIN:VTIMEZONE
TZID:Europe/Rome
BEGIN:DAYLIGHT
TZOFFSETFROM:+0100
TZOFFSETTO:+0200
TZNAME:CEST
DTSTART:20190331T010000
END:DAYLIGHT
BEGIN:STANDARD
TZOFFSETFROM:+0200
TZOFFSETTO:+0100
TZNAME:CET
DTSTART:20191027T010000
END:STANDARD
BEGIN:DAYLIGHT
TZOFFSETFROM:+0100
TZOFFSETTO:+0200
TZNAME:CEST
DTSTART:20200329T010000
END:DAYLIGHT
BEGIN:STANDARD
TZOFFSETFROM:+0200
TZOFFSETTO:+0100
TZNAME:CET
DTSTART:20201025T010000
END:STANDARD
BEGIN:DAYLIGHT
TZOFFSETFROM:+0100
TZOFFSETTO:+0200
TZNAME:CEST
DTSTART:20210328T010000
END:DAYLIGHT
BEGIN:STANDARD
TZOFFSETFROM:+0200
TZOFFSETTO:+0100
TZNAME:CET
DTSTART:20211031T010000
END:STANDARD
END:VTIMEZONE
BEGIN:VEVENT
DTSTART;VALUE=DATE:20200521
DTEND;VALUE=DATE:20200522
DTSTAMP:20260425T131848
CREATED:20211025T132735Z
LAST-MODIFIED:20211025T132735Z
UID:34377-1590019200-1590105599@geopolitica.info
SUMMARY:Aperitivo con: Joost Flamand\, Ambasciatore dei Paesi Bassi in Italia
DESCRIPTION:L’Ambasciatore dei Paesi Bassi in Italia Joost Flamand dialoga con Giangiacomo Calovini – Coordinatore Europa Geopolitica.info \nTorna Aperitivo con…! La serie di incontri organizzata da Geopolitica.info per creare un ambiente di dialogo e confronto con rappresentanti delle istituzioni\, accademici\, giornalisti e professionisti. \nL’accesso è gratuito su prenotazione. \nIl workshop si terrà in via telematica sulla piattaforma Zoom. La prenotazione dell’evento deve essere fatta necessariamente su Eventbrite. Una volta completata la registrazione si riceveranno i codici di accesso alla conferenza.
URL:https://geopolitica.info/evento/aperitivo-con-joost-flamand-ambasciatore-dei-paesi-bassi-in-italia/
CATEGORIES:Evento online
ATTACH;FMTTYPE=image/png:https://geopolitica.info/wp-content/uploads/2020/05/Amb.-Olandese-1.png
END:VEVENT
END:VCALENDAR