BEGIN:VCALENDAR
VERSION:2.0
PRODID:-//Geopolitica.info - ECPv6.15.20//NONSGML v1.0//EN
CALSCALE:GREGORIAN
METHOD:PUBLISH
X-ORIGINAL-URL:https://geopolitica.info
X-WR-CALDESC:Eventi per Geopolitica.info
REFRESH-INTERVAL;VALUE=DURATION:PT1H
X-Robots-Tag:noindex
X-PUBLISHED-TTL:PT1H
BEGIN:VTIMEZONE
TZID:Europe/Rome
BEGIN:DAYLIGHT
TZOFFSETFROM:+0100
TZOFFSETTO:+0200
TZNAME:CEST
DTSTART:20190331T010000
END:DAYLIGHT
BEGIN:STANDARD
TZOFFSETFROM:+0200
TZOFFSETTO:+0100
TZNAME:CET
DTSTART:20191027T010000
END:STANDARD
BEGIN:DAYLIGHT
TZOFFSETFROM:+0100
TZOFFSETTO:+0200
TZNAME:CEST
DTSTART:20200329T010000
END:DAYLIGHT
BEGIN:STANDARD
TZOFFSETFROM:+0200
TZOFFSETTO:+0100
TZNAME:CET
DTSTART:20201025T010000
END:STANDARD
BEGIN:DAYLIGHT
TZOFFSETFROM:+0100
TZOFFSETTO:+0200
TZNAME:CEST
DTSTART:20210328T010000
END:DAYLIGHT
BEGIN:STANDARD
TZOFFSETFROM:+0200
TZOFFSETTO:+0100
TZNAME:CET
DTSTART:20211031T010000
END:STANDARD
BEGIN:DAYLIGHT
TZOFFSETFROM:+0100
TZOFFSETTO:+0200
TZNAME:CEST
DTSTART:20220327T010000
END:DAYLIGHT
BEGIN:STANDARD
TZOFFSETFROM:+0200
TZOFFSETTO:+0100
TZNAME:CET
DTSTART:20221030T010000
END:STANDARD
END:VTIMEZONE
BEGIN:VEVENT
DTSTART;TZID=Europe/Rome:20210215T170000
DTEND;TZID=Europe/Rome:20210215T183000
DTSTAMP:20260425T125816
CREATED:20211019T100339Z
LAST-MODIFIED:20211020T131853Z
UID:34155-1613408400-1613413800@geopolitica.info
SUMMARY:Trent’anni del Gruppo di Visegràd: una nuova Europa che guardi ad est?
DESCRIPTION:Introduce\nS.E. Anna Maria Anders\, Ambasciatore di Polonia in Italia \nIntervengono\nOn. Piero Fassino\, Presidente Commissione Affari Esteri\, Camera dei Deputati\nS.E. Ján Šoth\, Ambasciatore di Slovacchia in Italia\nS.E. Hana Hubáčková\, Ambasciatore della Repubblica Ceca in Italia\nS.E. Ádám Kovács\, Ambasciatore d’Ungheria in Italia\nProf. Andrea Carteny\, Università La Sapienza \nModera\nDott. Giangiacomo Calovini\, Centro Studi Geopolitica.info\, Coordinatore Europa \nIl webinair è organizzato dal Centro Studi Geopolitica.info e dall’Ambasciata di Polonia in Italia in occasione della Presidenza del Gruppo di Visegràd. L’accesso è gratuito su prenotazione. Il webinar si terrà in via telematica sulla piattaforma zoom. La prenotazione dell’evento deve essere fatta necessariamente su Eventbrite. Una volta completata la registrazione si riceveranno i codici di accesso alla conferenza.
URL:https://geopolitica.info/evento/trentanni-del-gruppo-di-visegrad-una-nuova-europa-che-guardi-ad-est/
CATEGORIES:Evento online
ATTACH;FMTTYPE=image/png:https://geopolitica.info/wp-content/uploads/2021/02/Eventi-_-Fb-6.png
END:VEVENT
BEGIN:VEVENT
DTSTART;TZID=Europe/Rome:20201118T183000
DTEND;TZID=Europe/Rome:20201118T193000
DTSTAMP:20260425T125816
CREATED:20211022T142914Z
LAST-MODIFIED:20211023T061359Z
UID:34331-1605724200-1605727800@geopolitica.info
SUMMARY:Aperitivo con S.E Amb. Anna Maria Anders\, ambasciatore di Polonia a Roma
DESCRIPTION:In occasione del ciclo di appuntamenti “Aperitivo con”\, organizzato dal Centro Studi Geopolitica.info \, avrà luogo il primo di una lunga serie di interviste rivolte ad alcuni ambasciatori stranieri presenti in Italia. \nNel primo incontro mercoledì 18 novembre alle ore 18.30\, l’ambasciatrice di Polonia in Italia S.E Anna Maria Anders e il coordinatore Italia e Europa di Geopolitica.info Giangiacomo Calovini dibatteranno di alcuni temi di politica internazionale. \nIl webinar è organizzato dal Centro Studi Geopolitica.info. \nL’accesso è gratuito su prenotazione. Il webinar si terrà in via telematica sulla piattaforma Zoom. La prenotazione dell’evento deve essere fatta necessariamente su Eventbrite. Una volta completata la registrazione si riceveranno i codici di accesso alla conferenza.
URL:https://geopolitica.info/evento/aperitivo-con-s-e-amb-anna-maria-anders-ambasciatore-di-polonia-a-roma/
CATEGORIES:Evento online
ATTACH;FMTTYPE=image/png:https://geopolitica.info/wp-content/uploads/2020/11/Aperitivo-_-Fb.png
END:VEVENT
BEGIN:VEVENT
DTSTART;TZID=Europe/Rome:20201007T173000
DTEND;TZID=Europe/Rome:20201007T190000
DTSTAMP:20260425T125816
CREATED:20211025T125502Z
LAST-MODIFIED:20211025T125502Z
UID:34360-1602091800-1602097200@geopolitica.info
SUMMARY:La solidarietà di ieri e di oggi. 40 anni di Solidarność.
DESCRIPTION:Il 7 ottobre 2020 dalle ore 17:30 alle ore 19:00 si terrà l’evento “La solidarietà di ieri e di oggi” organizzato in occasione dei 40 anni di Solidarność\, dall’Ambasciata di Polonia a Roma e dal Centro Studi Geopolitica.info \n\nIntroduzione\nS.E. AMB. Anna Maria Anders\, Ambasciatrice di Polonia a Roma. \nIntervengono\nProf. Antonello Folco Biagini\, Rettore Unitelma Sapienza.\nSen. Jas Gawronski\, già europarlamentare e corrispondente RAI.\nDott. Massimiliano Signifredi\, Università degli Studi Roma Tre.\nDott.ssa Wanda Gawronska\, Centro Incontri e Studi Europei.\nDott. Pawel Kukiz-Szczucinski\, Centro Polacco per gli Aiuti Internazionali. \nConclude\nAmb. Giulio Terzi Di Sant’Agata\, già Ministro degli Affari Esteri. \nModerano\nDott. Giangiacomo Calovini\, Centro Studi Geopolitica.info\nDott.ssa Anna Kurdziel\, Consigliere dell’Ambasciata di Polonia a Roma. \nL’evento sarà disponibile in diretta streaming sui canali di Geopolitica.info e dell’Ambasciata di Polonia a Roma. \nCollegati al seguente link per accedere alla diretta dell’evento!
URL:https://geopolitica.info/evento/la-solidarieta-di-ieri-e-di-oggi-40-anni-di-solidarnosc/
CATEGORIES:Evento online
ATTACH;FMTTYPE=image/png:https://geopolitica.info/wp-content/uploads/2020/10/Locandina-Evento-Ambasciata-di-Polonia.png
END:VEVENT
END:VCALENDAR