BEGIN:VCALENDAR
VERSION:2.0
PRODID:-//Geopolitica.info - ECPv6.15.20//NONSGML v1.0//EN
CALSCALE:GREGORIAN
METHOD:PUBLISH
X-ORIGINAL-URL:https://geopolitica.info
X-WR-CALDESC:Eventi per Geopolitica.info
REFRESH-INTERVAL;VALUE=DURATION:PT1H
X-Robots-Tag:noindex
X-PUBLISHED-TTL:PT1H
BEGIN:VTIMEZONE
TZID:Europe/Rome
BEGIN:DAYLIGHT
TZOFFSETFROM:+0100
TZOFFSETTO:+0200
TZNAME:CEST
DTSTART:20210328T010000
END:DAYLIGHT
BEGIN:STANDARD
TZOFFSETFROM:+0200
TZOFFSETTO:+0100
TZNAME:CET
DTSTART:20211031T010000
END:STANDARD
BEGIN:DAYLIGHT
TZOFFSETFROM:+0100
TZOFFSETTO:+0200
TZNAME:CEST
DTSTART:20220327T010000
END:DAYLIGHT
BEGIN:STANDARD
TZOFFSETFROM:+0200
TZOFFSETTO:+0100
TZNAME:CET
DTSTART:20221030T010000
END:STANDARD
BEGIN:DAYLIGHT
TZOFFSETFROM:+0100
TZOFFSETTO:+0200
TZNAME:CEST
DTSTART:20230326T010000
END:DAYLIGHT
BEGIN:STANDARD
TZOFFSETFROM:+0200
TZOFFSETTO:+0100
TZNAME:CET
DTSTART:20231029T010000
END:STANDARD
END:VTIMEZONE
BEGIN:VEVENT
DTSTART;TZID=Europe/Rome:20221018T110000
DTEND;TZID=Europe/Rome:20221018T130000
DTSTAMP:20260425T000437
CREATED:20221001T151211Z
LAST-MODIFIED:20221001T151211Z
UID:40216-1666090800-1666098000@geopolitica.info
SUMMARY:Il Piano Nazionale di Ripresa e Resilienza: uno sguardo geografico
DESCRIPTION:Martedì 18 ottobre 2022 alle ore 11.00 nella sede del Ministero delle Infrastrutture e della Mobilità Sostenibili in via Nomentana\, 2 a Roma\, verrà presentato il fascicolo di “documenti geografici” relativo al tema “Il Piano Nazionale di Ripresa e Resilienza: uno sguardo geografico”\, curato dai Colleghi Mauro Pascolini e Lina Maria Calandra. Prenderà parte alla presentazione il Ministro Enrico Giovannini\, che terrà le conclusioni.
URL:https://geopolitica.info/evento/il-piano-nazionale-di-ripresa-e-resilienza-uno-sguardo-geografico/
LOCATION:Ministero delle Infrastrutture e della Mobilità Sostenibile\, Via Nomentana\, 2\, Roma
CATEGORIES:Evento in presenza
ATTACH;FMTTYPE=image/jpeg:https://geopolitica.info/wp-content/uploads/2022/10/presentazione-del-fascicolo3688_page-0001-scaled.jpg
END:VEVENT
END:VCALENDAR