BEGIN:VCALENDAR
VERSION:2.0
PRODID:-//Geopolitica.info - ECPv6.15.20//NONSGML v1.0//EN
CALSCALE:GREGORIAN
METHOD:PUBLISH
X-WR-CALNAME:Geopolitica.info
X-ORIGINAL-URL:https://geopolitica.info
X-WR-CALDESC:Eventi per Geopolitica.info
REFRESH-INTERVAL;VALUE=DURATION:PT1H
X-Robots-Tag:noindex
X-PUBLISHED-TTL:PT1H
BEGIN:VTIMEZONE
TZID:Europe/Rome
BEGIN:DAYLIGHT
TZOFFSETFROM:+0100
TZOFFSETTO:+0200
TZNAME:CEST
DTSTART:20190331T010000
END:DAYLIGHT
BEGIN:STANDARD
TZOFFSETFROM:+0200
TZOFFSETTO:+0100
TZNAME:CET
DTSTART:20191027T010000
END:STANDARD
BEGIN:DAYLIGHT
TZOFFSETFROM:+0100
TZOFFSETTO:+0200
TZNAME:CEST
DTSTART:20200329T010000
END:DAYLIGHT
BEGIN:STANDARD
TZOFFSETFROM:+0200
TZOFFSETTO:+0100
TZNAME:CET
DTSTART:20201025T010000
END:STANDARD
BEGIN:DAYLIGHT
TZOFFSETFROM:+0100
TZOFFSETTO:+0200
TZNAME:CEST
DTSTART:20210328T010000
END:DAYLIGHT
BEGIN:STANDARD
TZOFFSETFROM:+0200
TZOFFSETTO:+0100
TZNAME:CET
DTSTART:20211031T010000
END:STANDARD
BEGIN:DAYLIGHT
TZOFFSETFROM:+0100
TZOFFSETTO:+0200
TZNAME:CEST
DTSTART:20220327T010000
END:DAYLIGHT
BEGIN:STANDARD
TZOFFSETFROM:+0200
TZOFFSETTO:+0100
TZNAME:CET
DTSTART:20221030T010000
END:STANDARD
BEGIN:DAYLIGHT
TZOFFSETFROM:+0100
TZOFFSETTO:+0200
TZNAME:CEST
DTSTART:20230326T010000
END:DAYLIGHT
BEGIN:STANDARD
TZOFFSETFROM:+0200
TZOFFSETTO:+0100
TZNAME:CET
DTSTART:20231029T010000
END:STANDARD
BEGIN:DAYLIGHT
TZOFFSETFROM:+0100
TZOFFSETTO:+0200
TZNAME:CEST
DTSTART:20240331T010000
END:DAYLIGHT
BEGIN:STANDARD
TZOFFSETFROM:+0200
TZOFFSETTO:+0100
TZNAME:CET
DTSTART:20241027T010000
END:STANDARD
END:VTIMEZONE
BEGIN:VEVENT
DTSTART;TZID=Europe/Rome:20230519T160000
DTEND;TZID=Europe/Rome:20230519T173000
DTSTAMP:20260424T205344
CREATED:20230505T110633Z
LAST-MODIFIED:20230515T173513Z
UID:42788-1684512000-1684517400@geopolitica.info
SUMMARY:RUSPOL: I rapporti tra Italia\, Europa e Russia nel lungo periodo
DESCRIPTION:Introduce:\nGiuliana Del Papa (Ministero degli Affari Esteri e della Cooperazione Internazionale) \nChair:\nDeborah Natale (Sapienza Università di Roma)\nPaolo Pizzolo (Università Jagellonica di Cracovia) \nRelatori:\nGabriele Checchia (Comitato Atlantico Italiano)\nLuca Micheletta (Sapienza Università di Roma)\nMara Morini (Università di Genova) \nData: 19 maggio 2023\nOra: 16-17.30\nLuogo: Dipartimento di Scienze Politiche\, Sapienza Università di Roma – Aula B\nPiazzale Aldo Moro\, 5 – 00185 Roma (RM)
URL:https://geopolitica.info/evento/ruspol/
LOCATION:Dipartimento di Scienze politiche di Sapienza Università di Roma (Aula B)
CATEGORIES:Evento in presenza
ATTACH;FMTTYPE=image/jpeg:https://geopolitica.info/wp-content/uploads/2023/05/eb489e07-9578-4be4-ba6c-15e121526f40-scaled.jpg
END:VEVENT
BEGIN:VEVENT
DTSTART;TZID=Europe/Rome:20210310T173000
DTEND;TZID=Europe/Rome:20210310T183000
DTSTAMP:20260424T205344
CREATED:20211019T095218Z
LAST-MODIFIED:20211019T095218Z
UID:34150-1615397400-1615401000@geopolitica.info
SUMMARY:Obiettivi e strategia delle grandi potenze nel conflitto del Nagorno Karabakh
DESCRIPTION:A quattro mesi dall’accordo che ha posto fine all’ultima fase del conflitto congelato in Nagorno Karabakh\, il Centro Studi Geopolitica.info ha voluto porre l’attenzione sulle conseguenze locali e internazionali della guerra\, guardando agli eventi dalla prospettiva dei principali attori coinvolti. La conferenza si pone come obiettivo l’analisi delle ripercussioni del conflitto mediante la ricostruzione degli interessi e dell’operato dei principali attori coinvolti\, dalla Turchia alla Russia\, dall’Iran all’Unione Europea\, al fine di comprendere il significato di un conflitto apparentemente locale che rappresenta una singolare intersezione delle dinamiche caratterizzanti lo Spazio post-sovietico e il Medio Oriente. \nIntroducono\nGabriele Natalizia\, Sapienza Università di Roma\, Geopolitica.info\nFabio Indeo\, OACC Osservatorio Asia Centrale e Caspio \nIntervengono\nAldo Ferrari\, Ca’ Foscari Università di Venezia\nCarlo Frappi\, Ca’ Foscari Università di Venezia\nAndrea Carteny\, Sapienza Università di Roma\, CEMAS Sapienza\nElena Tosti Di Stefano\, Sapienza Università di Roma\, CEMAS Sapienza\nShirin Zakeri\, Sapienza Università di Roma\, CEMAS Sapienza \nModera\nChiara Minora\, Geopolitica.info \nIl webinar è organizzato dal Centro Studi Geopolitica.info e dall’Osservatorio sull’Asia Centrale e il Caspio (OACC) in collaborazione con il CEMAS Sapienza. L’accesso è gratuito su prenotazione. Il webinar si terrà in via telematica sulla piattaforma zoom. La prenotazione dell’evento deve essere fatta necessariamente su Eventbrite. Una volta completata la registrazione si riceveranno i codici di accesso alla conferenza.
URL:https://geopolitica.info/evento/obiettivi-e-strategia-delle-grandi-potenze-nel-conflitto-del-nagorno-karabakh/
CATEGORIES:Evento online
ATTACH;FMTTYPE=image/png:https://geopolitica.info/wp-content/uploads/2021/03/Eventi-_-Fb-10.png
END:VEVENT
BEGIN:VEVENT
DTSTART;TZID=Europe/Rome:20210126T183000
DTEND;TZID=Europe/Rome:20210126T200000
DTSTAMP:20260424T205344
CREATED:20211020T134159Z
LAST-MODIFIED:20211020T134159Z
UID:34196-1611685800-1611691200@geopolitica.info
SUMMARY:Artico ultima frontiera: la competizione tra le potenze nell’estremo nord
DESCRIPTION:L’ascesa di nuovi e numerosi “attori spaziali”\, tra cui spicca la Repubblica Popolare Cinese\, sta ridefinendo gli equilibri che hanno storicamente caratterizzato l’esplorazione spaziale degli ultimi 50 anni. Lo spazio è oggi una frontiera comune\, non più appannaggio del predominio di super potenze come Stati Uniti e Russia. Complesse dinamiche di cooperazione e competizione si intersecano tra loro senza un’apparente soluzione di continuità\, istituendo un forte elemento di rottura col passato. Una fitta rete di partnership e rivalità\, i cui successi ed insuccessi “spaziali”\, possono determinare l’ascesa o il declino di nuove grandi potenze terrestri. \nSaluti istituzionali\nAntonello Folco Biagini\, UNITELMA Sapienza \nIntroduce\nLorenzo Bazzanti\, Centro Studi Geopolitica.info \nInterviene\nLuca Parmitano\, European Space Agency \nCommentano\nMariano Bizzarri\, Sapienza Università di Roma\nMarcello Spagnulo\, MarsCenter srl\nValentina Mariani\, UNITELMA Sapienza\nAndrea D’Ottavio\, Centro Studi Geopolitica.info \nModera\nGabriele Natalizia\, Sapienza Università di Roma\, Centro Studi Geopolitica.info \nConsiderazioni conclusive\nLuca Frusone\, Camera dei Deputati – Assemblea Parlamentare della NATO \nIl webinar è organizzato dal Centro Studi Geopolitica.info. In collaborazione con Unitelma Sapienza\, CEMAS Sapienza e con il patrocinio di Fondazione Roma Sapienza. L’accesso è gratuito su prenotazione. Il webinar si terrà in via telematica sulla piattaforma Zoom. La prenotazione dell’evento deve essere fatta necessariamente su Eventbrite. Una volta completata la registrazione si riceveranno i codici di accesso alla conferenza.
URL:https://geopolitica.info/evento/artico-ultima-frontiera-la-competizione-tra-le-potenze-nellestremo-nord-2/
CATEGORIES:Evento online
ATTACH;FMTTYPE=image/png:https://geopolitica.info/wp-content/uploads/2021/01/Eventi-_-Fb-5.png
END:VEVENT
BEGIN:VEVENT
DTSTART;TZID=Europe/Rome:20201105T140000
DTEND;TZID=Europe/Rome:20201105T160000
DTSTAMP:20260424T205344
CREATED:20211025T124453Z
LAST-MODIFIED:20211025T124453Z
UID:34353-1604584800-1604592000@geopolitica.info
SUMMARY:Presentazione del libro “La Russia di Putin” di Mara Morini
DESCRIPTION:Il volume “La Russia di Putin” di Mara Morini\, docente di Politics of Eastern Europe e Scienza politica presso l’Università di Genova\, che da ormai vent’anni svolge attività di ricerca sulle dinamiche politiche interne ed esterne della Federazione\, si propone di decifrare quel “monumento delle contraddizioni” rappresentato dalla Russia post-sovietica. Il saggio si apre con una prima parte dedicata alla ricostruzione del sistema istituzionale russo\, descrivendone la sua graduale evoluzione verso un “super presidenzialismo”. Nella seconda macro-area\, dedicata ad elezioni e partiti\, si analizza il ruolo assolto da “Russia Unita”\, passando dalle controverse dinamiche politiche degli anni Novanta\, alle più recenti elezioni del 2016 e 2018. La terza parte\, dedicata ad economia e società\, ripercorre il processo di costruzione dell’identità nazionale in epoca post-sovietica e le dinamiche di natura socioeconomica e demografica che caratterizzano la Russia odierna\, concludendo con una minuziosa riflessione sulle contraddizioni intestine al capitalismo patrimoniale russo. Nell’ultima parte del volume\, dal titolo emblematico\, “La Russia contro il resto del mondo”\, l’autrice sposta l’attenzione sulla politica estera russa e la sua evoluzione. Dalla dura presa di coscienza\, negli anni Novanta\, dei limiti della neonata Federazione rispetto alle ambizioni internazionali\, fino ai giorni d’oggi\, con un focus sulle relazioni con l’Occidente e le nuove iniziative verso la Cina e il Medio Oriente. Se\, come sostiene il poeta e scrittore russo Fëdor Tjučev “La Russia non si intende con il senno\, né col comune metro: la Russia è fatta a modo suo\, in essa si può credere soltanto”\, frase che apre\, non a caso\, l’introduzione al volume\, il saggio della Morini tenta di offrire al lettore una visione d’insieme della politica russa\, consentendo di leggere i più recenti sviluppi in una prospettiva di lungo periodo. \nIntroduce\nGianluca Passarelli\, Sapienza Università di Roma \nInterviene\nMara Morini\, Università di Genova \nNe discutono\nAndrea Carteny\, Sapienza Università di Roma\nAndrea Catanzaro\, Università di Genova\nCarlo Frappi\, Ca’Foscari Università di Venezia\nGiuseppe Gallo\, Presidente Fondazione Tarantelli\nChiara Minora\, Geopolitica.info\nLorenzo Riggi\, Geopolitica.info\nSorina Cristina Soare\, Università di Firenze \nModera\nGabriele Natalizia\, Sapienza Università di Roma \nIl seminario è organizzato dal Dipartimento di Scienze Politiche di Sapienza Università di Roma nell’ambito del corso di “Scienza Politica”. L’accesso è gratuito e aperto a coloro che non frequentano l’Università. La registrazione avverrà esclusivamente attraverso la piattaforma eventbrite\, una volta completata la procedura di registrazione saranno comunicati i codici di accesso al seminario.
URL:https://geopolitica.info/evento/presentazione-del-libro-la-russia-di-putin-di-mara-morini/
CATEGORIES:Evento online,Presentazione Libro
ATTACH;FMTTYPE=image/png:https://geopolitica.info/wp-content/uploads/2020/10/Morini-senza-Link.png
END:VEVENT
BEGIN:VEVENT
DTSTART;VALUE=DATE:20200516
DTEND;VALUE=DATE:20200517
DTSTAMP:20260424T205344
CREATED:20211025T133505Z
LAST-MODIFIED:20211025T133505Z
UID:34385-1589587200-1589673599@geopolitica.info
SUMMARY:Workshop online “Sanzioni internazionali: le conseguenze sui rapporti tra UE\, Russia e Iran”
DESCRIPTION:“Sanzioni internazionali: le conseguenze sui rapporti tra Ue\, Russia e Iran” \n16 maggio 2020 – 18:00 \nModera: \nAndrea Merlo – Geopolitica.info \nIntervengono: \nGiulia Levi – Studio legale Padovan \nGiangiacomo Calovini – Geopolitica.info \nGiuseppe Di Luccia – Studio legale Padovan \nIl workshop è organizzato dal Centro Studi Geopolitica.info e l’accesso è aperto su prenotazione. \nIl workshop si terrà in via telematica sulla piattaforma Zoom. La prenotazione dell’evento deve essere fatta necessariamente su Eventbrite. Una volta completata la registrazione si riceveranno i codici di accesso alla conferenza.
URL:https://geopolitica.info/evento/workshop-online-sanzioni-internazionali-le-conseguenze-sui-rapporti-tra-ue-russia-e-iran/
CATEGORIES:Evento online
ATTACH;FMTTYPE=image/png:https://geopolitica.info/wp-content/uploads/2020/05/Locandina-16-aggiornata.png
END:VEVENT
BEGIN:VEVENT
DTSTART;VALUE=DATE:20200211
DTEND;VALUE=DATE:20200212
DTSTAMP:20260424T205344
CREATED:20211027T113942Z
LAST-MODIFIED:20211027T113942Z
UID:34428-1581379200-1581465599@geopolitica.info
SUMMARY:Sfide e sfidanti dell’ordine liberale
DESCRIPTION:Il Centro Studi Geopolitica.info è lieto di annunciare che il prossimo 11 febbraio alle 17.30 si terrà\, presso la sede del Centro Studi Americani in via Michelangelo Caetani 32\, il dibattito “Sfide e sfidanti dell’ordine liberale”. L’evento servirà da kick-off per la XIV edizione della Winter School in Geopolitica e Relazioni Internazionali. \nLa discussione si concentrerà sulle sfide presenti e future alla leadership globale degli USA. Da un lato\, le potenze di Russia e Cina ambiscono ad una riconfigurazione degli ordini politici regionali\, dall’altra sembra aggravarsi la crisi interna all’occidente. Con questo dibattito si proverà a delineare quali scenari si profilano all’orizzonte per l’ordine internazionale liberale. \nVi aspettiamo numerosi\, non mancate! \nPer registrarsi all’evento:\nevent@centrostudiamericani.org \n…E chi si iscrive alla Winter School durante l’evento avrà in omaggio il Corso Online “L’America di Trump”!
URL:https://geopolitica.info/evento/sfide-e-sfidanti-dellordine-liberale/
LOCATION:Centro Studi Americani\, Via Michelangelo Caetani 32\, Roma\, Roma\, Italia
ATTACH;FMTTYPE=image/jpeg:https://geopolitica.info/wp-content/uploads/2020/02/CSA-Geopolitica.info-11-febbraio.jpg
END:VEVENT
END:VCALENDAR