BEGIN:VCALENDAR
VERSION:2.0
PRODID:-//Geopolitica.info - ECPv6.15.20//NONSGML v1.0//EN
CALSCALE:GREGORIAN
METHOD:PUBLISH
X-ORIGINAL-URL:https://geopolitica.info
X-WR-CALDESC:Eventi per Geopolitica.info
REFRESH-INTERVAL;VALUE=DURATION:PT1H
X-Robots-Tag:noindex
X-PUBLISHED-TTL:PT1H
BEGIN:VTIMEZONE
TZID:Europe/Rome
BEGIN:DAYLIGHT
TZOFFSETFROM:+0100
TZOFFSETTO:+0200
TZNAME:CEST
DTSTART:20230326T010000
END:DAYLIGHT
BEGIN:STANDARD
TZOFFSETFROM:+0200
TZOFFSETTO:+0100
TZNAME:CET
DTSTART:20231029T010000
END:STANDARD
BEGIN:DAYLIGHT
TZOFFSETFROM:+0100
TZOFFSETTO:+0200
TZNAME:CEST
DTSTART:20240331T010000
END:DAYLIGHT
BEGIN:STANDARD
TZOFFSETFROM:+0200
TZOFFSETTO:+0100
TZNAME:CET
DTSTART:20241027T010000
END:STANDARD
BEGIN:DAYLIGHT
TZOFFSETFROM:+0100
TZOFFSETTO:+0200
TZNAME:CEST
DTSTART:20250330T010000
END:DAYLIGHT
BEGIN:STANDARD
TZOFFSETFROM:+0200
TZOFFSETTO:+0100
TZNAME:CET
DTSTART:20251026T010000
END:STANDARD
END:VTIMEZONE
BEGIN:VEVENT
DTSTART;VALUE=DATE:20240418
DTEND;VALUE=DATE:20240420
DTSTAMP:20260424T224535
CREATED:20240315T170340Z
LAST-MODIFIED:20240315T175158Z
UID:46179-1713398400-1713571199@geopolitica.info
SUMMARY:Convegno scientifico: Stati generali dell’innovazione sostenibile
DESCRIPTION:Evento accreditato dall’Ordine degli Avvocati di Roma con 5 crediti formativi ordinari\, previa partecipazione in presenza a entrambi i giorni del convegno. \nIn corso di accreditamento presso l’ODCEC di Roma con 10 crediti formativi\, previa partecipazione in presenza a entrambi i giorni del convegno. \nIn collaborazione con MADEINT (Centro di Ricerca sul MADE IN ITALY)\, SERID (Scuola di Economia\, Relazioni Internazionali e Diplomazia)\, Centro Studi Geopolitica.info. \nNon-Financial disclosure and Audit Quality:\nFuture perspectives in Italy and Europe (n-FAQ)(2022YALETF)\nCodice CUP: D53D23006810008\nResponsabile unità UNINT: prof. Sara Trucco \nSaving natural resources: an experimental-behavioral approach to intertemporal environmental decisions (2022C8TFSY)\nCUP: D53D23006410008\nResponsabile unità UNINT: prof. Amedeo Argentiero \n  \nPer accreditarti clicca qui! \n  \nPROGRAMMA \n  \n18 aprile 2024 \n  \n14:30 – 15:00 | Registrazione partecipanti \n  \n15:00 – 15:30 | Saluti istituzionali UNINT \nMariagrazia Russo\, Rettrice UNINT \nAlessandro De Nisco\, Direttore del Dipartimento di Scienze Umanistiche e Sociali Internazionali\, UNINT \nAnna Carla Nazzaro\, Presidente del corso di laurea magistrale in Economia e management internazionale\, UNINT \nSara Trucco\, Presidente del corso di laurea triennale in Green management e sostenibilità\, UNINT \nPier Luigi Belvisi\, Delegato di Ateneo per la RUS – Rete delle Università per lo sviluppo Sostenibile\, UNINT) \nSaluti di indirizzo: \nGiovanni Battista Calì\, Presidente dell’Ordine dei Dottori Commercialisti e degli Esperti Contabili di Roma \nNicola Cipriani\, Professore ordinario di Diritto privato\, Unione Nazionale Camere Civili \nGiuseppe D’Ippolito\, Ambasciatore UE\, European Climate Pact \nGian Luca Galletti\, Consigliere Nazionale del Consiglio Nazionale dei Dottori Commercialisti e degli Esperti Contabili con delega allo sviluppo sostenibile \n  \n15:30 – 17:00 | Prima tavola rotonda\n“Rendicontazione di sostenibilità e nuovi standard” \nModera: \nSara Trucco\, Professoressa ordinaria di Economia aziendale\, UNINT \nIntervengono: \nChiara Demartini\, Professoressa ordinaria di Economia aziendale\, Università di Pavia e Principal Investigator del Progetto di ricerca di rilevante interesse nazionale (PRIN-Bando 2022)\, Non-Financial disclosure and Audit Quality: Future perspectives in Italy and Europe (n-FAQ) \nFrancesco de Luca\, Professore ordinario di Economia aziendale\, Università di Chieti-Pescara e Co-coordinatore del gruppo di studio “Comunicazione non finanziaria e modelli informativi integrati” \nPaolo Bersani\, Partner PwC\, ESG Reporting Leader \nEleonora Giada Pessina\, CSR Manager\, Pirelli \nGiancarlo Reschigna Venturini\, Sustainability reporting\, performance and disclosure Head of Department\, Maire Tecnimont \n  \n17:00 – 17:30 | Pausa caffè \n  \n17:30 – 19:00 | Seconda tavola rotonda\n“Innovazione digitale e consumo energetico” \nModera: \nAnna Carla Nazzaro\, Professoressa ordinaria di Diritto privato\, UNINT \nIntervengono: \nGiovanni Brancalion Spadon\, Avvocato fondatore dello Studio Porto4\, Venezia \nManolita Francesca\, Professoressa ordinaria di Diritto privato\, Università di Foggia \nPietro Maria Putti\, Presidente e AD Gestore dei Mercati Energetici (Gme) e Professore associato di Diritto privato\, Università politecnica delle Marche \nLucia Ruggeri\, Professoressa ordinaria di Diritto privato\, Università di Camerino \n  \n19 aprile 2024 \n  \n8:30- 9:00 | Caffè conviviale \n  \n9:00 – 10.30 | Terza tavola rotonda\n“Sostenibilità e cambiamenti climatici” \nModera: \nAmedeo Argentiero\, Professore associato di Economia politica\, UNINT \nIntervengono: \nAlessio D’Amato\, Professore associato di Politica economica\, Università degli studi di Roma Tor Vergata e già Presidente IAERE (Società Italiana Economisti dell’Ambiente) \nPaolo Polinori\, Professore ordinario di Economia politica\, Università degli studi di Perugia \nAndrea Molocchi\, Senior Researcher\, Dipartimento Sviluppo Sostenibile e Fonti di Energia\, RSE \n  \n10:30 – 12:00 | Quarta tavola rotonda\n“La finanza sostenibile” \nModera: \nGiulia Scardozzi\, Ricercatrice di Finanza aziendale\, UNINT \nIntervengono: \nFranco Fiordelisi\, Professore ordinario di Economia degli intermediari finanziari\, Università degli Studi di Roma TRE \nGiuseppe Galloppo\, Professore associato di Economia degli intermediari finanziari\, Università degli studi della Tuscia \nValeria Lazzaroli\, Chairperson ENIA e Chief Risk Officer ARISK \nVladimiro Marini\, Data scientist presso Banca Etica \n  \n12:00 – 13:30 | Quinta tavola rotonda\n“Sostenibilità e moda” \nModera: \nGiada Mainolfi\, Professoressa associata di Economia e gestione delle Imprese\, UNINT\, in collaborazione con il Centro di ricerca sul Made in Italy (Madeint) \nIntervengono: \nFrancesca Romana Rinaldi\, SDA Bocconi Lecturer\, Direttrice Monitor for Circular Fashion del Sustainability Lab \nDonata Tania Vergura\, Professoressa associata di Marketing\, Università degli Studi di Parma \nGianni Dalla Mora\, Amministratore e fondatore di Womsh \nAlfio Fontana\, Corporate Partnership & CSR Manager Humana People to People Italia \nGiuseppe Picerno\, Head of Sustainability di Manteco \n  \n13:30 – 15:00 | Pranzo presso UNINT \n  \n15:00 – 16:30 | Sesta tavola rotonda\n“Geopolitica della transizione energetica e della sostenibilità” \nIntroduce: \nSanja Vlahovic\, Professoressa associata di Organizzazione aziendale\, UNINT \nModera: \nLorenzo Termine\, Docente di Relazioni internazionali\, UNINT\nIn collaborazione con SERID – Scuola di Economia\, Relazioni Internazionali e Diplomazia \nIntervengono: \nSimone Nisi\, Direttore Affari Istituzionali di Edison Spa \nGiampaolo Cutillo\, Direttore centrale per le questioni globali MAECI \nRomina Maurizi\, Direttrice Quotidiano energia \n  \nComitato organizzativo e scientifico\nAmedeo Argentiero\, Giuseppe Maria Bifulco\, Myriam Caratù\, Francesco Fallacara\, Edoardo Lanciano\, Giada Mainolfi\, Anna Carla Nazzaro\, Giulia Scardozzi\, Lorenzo Termine\, Sara Trucco\, Sanja Vlahovich. \nSegreteria organizzativa\nChiara Alaimo\, Gianluca Mottola\, Martina Zanfino.
URL:https://geopolitica.info/evento/convegno-scientifico-stati-generali-dellinnovazione-sostenibile/
LOCATION:Università degli Studi Internazionali di Roma – UNINT Via Cristoforo Colombo\, 200 00154 Roma
CATEGORIES:Evento in presenza
ATTACH;FMTTYPE=image/png:https://geopolitica.info/wp-content/uploads/2024/03/Sito-Stati-generali-dellinnovazione-sostenibile.png
END:VEVENT
END:VCALENDAR