BEGIN:VCALENDAR
VERSION:2.0
PRODID:-//Geopolitica.info - ECPv6.15.20//NONSGML v1.0//EN
CALSCALE:GREGORIAN
METHOD:PUBLISH
X-ORIGINAL-URL:https://geopolitica.info
X-WR-CALDESC:Eventi per Geopolitica.info
REFRESH-INTERVAL;VALUE=DURATION:PT1H
X-Robots-Tag:noindex
X-PUBLISHED-TTL:PT1H
BEGIN:VTIMEZONE
TZID:Europe/Rome
BEGIN:DAYLIGHT
TZOFFSETFROM:+0100
TZOFFSETTO:+0200
TZNAME:CEST
DTSTART:20240331T010000
END:DAYLIGHT
BEGIN:STANDARD
TZOFFSETFROM:+0200
TZOFFSETTO:+0100
TZNAME:CET
DTSTART:20241027T010000
END:STANDARD
BEGIN:DAYLIGHT
TZOFFSETFROM:+0100
TZOFFSETTO:+0200
TZNAME:CEST
DTSTART:20250330T010000
END:DAYLIGHT
BEGIN:STANDARD
TZOFFSETFROM:+0200
TZOFFSETTO:+0100
TZNAME:CET
DTSTART:20251026T010000
END:STANDARD
BEGIN:DAYLIGHT
TZOFFSETFROM:+0100
TZOFFSETTO:+0200
TZNAME:CEST
DTSTART:20260329T010000
END:DAYLIGHT
BEGIN:STANDARD
TZOFFSETFROM:+0200
TZOFFSETTO:+0100
TZNAME:CET
DTSTART:20261025T010000
END:STANDARD
END:VTIMEZONE
BEGIN:VEVENT
DTSTART;TZID=Europe/Rome:20251110T093000
DTEND;TZID=Europe/Rome:20251110T130000
DTSTAMP:20260425T170959
CREATED:20251027T060431Z
LAST-MODIFIED:20251027T060618Z
UID:51540-1762767000-1762779600@geopolitica.info
SUMMARY:Reimagining Taiwan: Conflict\, Connectivity\, and Identity – From Warscapes to Seascapes: Scenarios in Transition
DESCRIPTION:Luogo: Sala Lauree\, Dipartimento di Scienze Politiche\, Sapienza Università di Roma\nData: Lunedì 10 novembre 2025\nOrario: 9:30 – 13 \nPROGRAMMA \n\nSaluti iniziali:Andrea Carteny (Sapienza Università di Roma) \n\nIntroduzione: Paolo Wulzer(Università di Napoli “L’Orientale”) \n\nPanel l – WARSCAPES\nIsabelle Cockel (University of Portsmouth)\, James Lee (Academia Sinica in Taiwan\, NATO Defence College)\, George Yin (National Taiwan University)\nDiscute: Lorenzo Termine (European University Institute)\n\nPanel II – SEASCAPES\nAlexander Gandil (University Bordeaux Montaigne)\, Beatrice Zani (French National Center for Scientific Research\, Interdisciplinary Unit for Economic Sociology)\, Max Dixon\n(University of Portsmouth)\n\nDiscute: Stefano Pelaggi (Sapienza Università di Roma) \n  \n\nConclusioni: Oriana Skylar Mastro (Freeman Spogli Institute\, Stanford University)\, Axel Berkofsky (Università di Pavia)\n\n\n\n\n\n\n\n\n\n\nRegistrarsi al link\n 
URL:https://geopolitica.info/evento/reimagining-taiwan-conflict-connectivity-and-identity-from-warscapes-to-seascapes-scenarios-in-transition/
LOCATION:Dipartimento di Scienze politiche di Sapienza Università di Roma (Sala lauree\, piano terra)
CATEGORIES:Evento ibrido
ATTACH;FMTTYPE=image/jpeg:https://geopolitica.info/wp-content/uploads/2025/10/10-novembre-2025-1-scaled.jpg
END:VEVENT
END:VCALENDAR