BEGIN:VCALENDAR
VERSION:2.0
PRODID:-//Geopolitica.info - ECPv6.15.20//NONSGML v1.0//EN
CALSCALE:GREGORIAN
METHOD:PUBLISH
X-ORIGINAL-URL:https://geopolitica.info
X-WR-CALDESC:Eventi per Geopolitica.info
REFRESH-INTERVAL;VALUE=DURATION:PT1H
X-Robots-Tag:noindex
X-PUBLISHED-TTL:PT1H
BEGIN:VTIMEZONE
TZID:Europe/Rome
BEGIN:DAYLIGHT
TZOFFSETFROM:+0100
TZOFFSETTO:+0200
TZNAME:CEST
DTSTART:20220327T010000
END:DAYLIGHT
BEGIN:STANDARD
TZOFFSETFROM:+0200
TZOFFSETTO:+0100
TZNAME:CET
DTSTART:20221030T010000
END:STANDARD
BEGIN:DAYLIGHT
TZOFFSETFROM:+0100
TZOFFSETTO:+0200
TZNAME:CEST
DTSTART:20230326T010000
END:DAYLIGHT
BEGIN:STANDARD
TZOFFSETFROM:+0200
TZOFFSETTO:+0100
TZNAME:CET
DTSTART:20231029T010000
END:STANDARD
BEGIN:DAYLIGHT
TZOFFSETFROM:+0100
TZOFFSETTO:+0200
TZNAME:CEST
DTSTART:20240331T010000
END:DAYLIGHT
BEGIN:STANDARD
TZOFFSETFROM:+0200
TZOFFSETTO:+0100
TZNAME:CET
DTSTART:20241027T010000
END:STANDARD
BEGIN:DAYLIGHT
TZOFFSETFROM:+0100
TZOFFSETTO:+0200
TZNAME:CEST
DTSTART:20250330T010000
END:DAYLIGHT
BEGIN:STANDARD
TZOFFSETFROM:+0200
TZOFFSETTO:+0100
TZNAME:CET
DTSTART:20251026T010000
END:STANDARD
END:VTIMEZONE
BEGIN:VEVENT
DTSTART;TZID=Europe/Rome:20241210T193000
DTEND;TZID=Europe/Rome:20241210T203000
DTSTAMP:20260424T174518
CREATED:20241118T143131Z
LAST-MODIFIED:20241119T165613Z
UID:48537-1733859000-1733862600@geopolitica.info
SUMMARY:Open Days. Tirocinio con Geopolitica.info
DESCRIPTION:Vuoi collaborare con noi? \nIl Centro Studi Geopolitica.info si apre al pubblico: presenteremo le possibilità di collaborazione con il Centro Studi e spiegheremo le procedure di selezione per i tirocini\, con qualche consiglio per perfezionare la presentazione della candidatura. \nInoltre\, parleremo di tutte le altre possibilità di entrare a far parte del Centro Studi e di collaborare con noi. \nGiuseppe Blasetti\, Coordinatore Risorse Umane\, Centro Studi Geopolitica.info \nMargherita Butti\, Coordinatrice Comunicazione\, Centro Studi Geopolitica.info \nL’evento è gratuito\, iscriviti qui. \nAttenzione: una volta compilato il Form di Google\, ricordati di copiare il link Zoom! \nPartecipando all’evento accetti che l’evento sia registrato e condiviso sui canali social del Centro Studi.
URL:https://geopolitica.info/evento/open-days-tirocinio-con-geopolitica-info-3/
LOCATION:Zoom
CATEGORIES:Evento online
ATTACH;FMTTYPE=image/jpeg:https://geopolitica.info/wp-content/uploads/2024/11/Open-days-10-dicembre-scaled.jpeg
END:VEVENT
BEGIN:VEVENT
DTSTART;TZID=Europe/Rome:20240522T193000
DTEND;TZID=Europe/Rome:20240522T203000
DTSTAMP:20260424T174518
CREATED:20240507T205251Z
LAST-MODIFIED:20240507T205251Z
UID:46946-1716406200-1716409800@geopolitica.info
SUMMARY:Open Days. Tirocinio con Geopolitica.info
DESCRIPTION:Vuoi collaborare con noi? \nIl Centro Studi Geopolitica.info si apre al pubblico: presenteremo le possibilità di collaborazione con il Centro Studi e spiegheremo le procedure di selezione per i tirocini\, con qualche consiglio per perfezionare la presentazione della candidatura. \nInoltre\, parleremo di tutte le altre possibilità di entrare a far parte del Centro Studi e di collaborare con noi. \nGiuseppe Blasetti\, Supervisione processi di selezione\, Centro Studi Geopolitica.info \nMargherita Butti\, Social Content Manager\, Centro Studi Geopolitica.info \nL’evento è gratuito\, iscriviti qui. \nAttenzione: al termine dell’iscrizione riceverai un link ad un Form di Google\, ricordati di compilarlo per poter ricevere il link Zoom! \nPartecipando all’evento accetti che l’evento sia registrato e condiviso sui canali social del Centro Studi.
URL:https://geopolitica.info/evento/open-days-tirocinio-con-geopolitica-info-2/
LOCATION:Zoom
CATEGORIES:Evento online,Webinar
ATTACH;FMTTYPE=image/jpeg:https://geopolitica.info/wp-content/uploads/2024/05/Open-Days-Geopolitica.info_-scaled.jpeg
END:VEVENT
BEGIN:VEVENT
DTSTART;TZID=Europe/Rome:20240227T183000
DTEND;TZID=Europe/Rome:20240227T203000
DTSTAMP:20260424T174518
CREATED:20240223T080018Z
LAST-MODIFIED:20240222T150533Z
UID:45959-1709058600-1709065800@geopolitica.info
SUMMARY:Webinar: Il bando e il tirocinio BLUE BOOK presso la Commissione Europea
DESCRIPTION:Partecipa in diretta e accedi alla registrazione \n\n\n\n\nProgramma: \n\nCos’è il tirocinio Blue Book: i requisiti\, l’application\, la candidatura\, i documenti da preparare e tutte le procedure necessarie – Giuseppe Blasetti\nDibattito tra gli/le ospiti:\n\nUtilità del tirocinio: entry-level o no?\nQuanto conta la DG o unità in cui si svolge il tirocinio: attività ed esperienze previste\nUtilità del tirocinio: entry-level o no?\nOpportunità ma anche lati meno positivi: sciogliamo qualche dubbio\nVale la pena interrompere quello che sto facendo per iniziare questo tirocinio?\nCosa fare dopo?\nCome muoversi durante il tirocinio per provare a restare nelle Istituzioni?\nCome muoversi per trovare opportunità lavorative coerenti ma fuori dalle Istituzioni?\nBruxelles e oltre\n\n\nQ&A\n\n\n\n\n\n\n\n\nUn’esperienza che guarda al futuro\n\n\n\n\nCercheremo inoltre di confrontarci sui dubbi che si possono avere sulla sua utilità: è un tirocinio entry-level o no? Vale la pena tentare se si ha già un lavoro ma si sognano le Istituzioni europee? Com’è poi spendibile dopo? \nIl Webinar va ad aggiungersi all’offerta prevista dal corso online Orientiamoci. E’ parte di una serie di momenti utili di confronto diretto con la community e con i relatori e relatrici del progetto\, per iniziare o accelerare la tua carriera nel settore della geopolitica e delle relazioni internazionali. \n\n\n\n\nCosa ti rimarrà di questo Webinar\n\n\n\n\nNelle 2 ore che trascorrerai insieme a relatori\, relatrici e agli altri e altre partecipanti\, imparerai attraverso testimonianze dirette\, quali sono le diverse esperienze possibili con la partecipazione allo stesso bando. \nVerranno svelati\, da chi li ha compiuti in prima persona\, i passi fatti per la preparazione della candidatura e per l’ottenimento del tirocinio Blue Book. \n\nAffronteremo i problemi e le paure comuni vissute da chi si trova in questa fase del proprio percorso lavorativo e di vita\nSarà un momento di confronto tra partecipanti\, relatori e relatrici\, che racconteranno ciò che hanno vissuto evidenziando le azioni che hanno portato a dei risultati ed alla costruzione di un primo profilo lavorativo.\n\nDopo aver partecipato all’evento o dopo aver visto la registrazione\, potrai richiedere via email il rilascio di un attestato di partecipazione. \n€ 25 IVA inclusa \n\n\n Partecipa in diretta\n\n\n Ricevi le slide\n\n\n Accedi alla registrazione del webinar per 30 giorni\n\n\n Ottieni sconti riservati\n\n\n Attestato di partecipazione\n\n\nPer tutte le info e per iscriverti clicca qui!\n\nPartecipando all’evento accetti che l’evento sia registrato e condiviso sui canali social del Centro Studi e di Orientiamoci!
URL:https://geopolitica.info/evento/webinar-il-bando-e-il-tirocinio-blue-book-presso-la-commissione-europea/
LOCATION:Zoom
CATEGORIES:Evento online,Webinar
ATTACH;FMTTYPE=image/jpeg:https://geopolitica.info/wp-content/uploads/2024/02/BLUEBOOK-scaled.jpg
END:VEVENT
BEGIN:VEVENT
DTSTART;TZID=Europe/Rome:20231205T190000
DTEND;TZID=Europe/Rome:20231205T200000
DTSTAMP:20260424T174518
CREATED:20231115T111301Z
LAST-MODIFIED:20231120T080949Z
UID:44745-1701802800-1701806400@geopolitica.info
SUMMARY:Open Days. Tirocinio con Geopolitica.info
DESCRIPTION:Vuoi collaborare con noi? \nIl Centro Studi Geopolitica.info si apre al pubblico: presenteremo le possibilità di collaborazione con il Centro Studi e spiegheremo le procedure di selezione per i tirocini\, con qualche consiglio per perfezionare la presentazione della candidatura. \nInoltre\, parleremo di tutte le altre possibilità di entrare a far parte del Centro Studi e di collaborare con noi. \nGiuseppe Blasetti\, Supervisione processi di selezione\, Centro Studi Geopolitica.info \nIlaria De Angelis\, Responsabile corsi online\, tirocini e social media\, Centro Studi Geopolitica.info \nMargherita Butti\, Desk Comunicazione e Social Media\, Centro Studi Geopolitica.info – Presentazione del tirocinio \nMartina Mereni\, Desk Comunicazione e Social Media\, Centro Studi Geopolitica.info – Scadenze\, tempistiche e modalità del tirocinio \nL’evento è gratuito\, iscriviti qui. \nAttenzione: al termine dell’iscrizione riceverai un link ad un Form di Google\, ricordati di compilarlo per poter ricevere il link Zoom! \nPartecipando all’evento accetti che l’evento sia registrato e condiviso sui canali social del Centro Studi.
URL:https://geopolitica.info/evento/open-days-tirocinio-con-geopolitica-info/
LOCATION:Zoom
CATEGORIES:Evento online
ATTACH;FMTTYPE=image/png:https://geopolitica.info/wp-content/uploads/2023/11/1-1.png
END:VEVENT
BEGIN:VEVENT
DTSTART;TZID=Europe/Rome:20231010T190000
DTEND;TZID=Europe/Rome:20231010T203000
DTSTAMP:20260424T174518
CREATED:20230927T082235Z
LAST-MODIFIED:20230927T103510Z
UID:44137-1696964400-1696969800@geopolitica.info
SUMMARY:Webinar: Il bando e il tirocinio MAECI-CRUI
DESCRIPTION:Partecipa al webinar di Orientiamoci in collaborazione con Geopolitica.info in diretta il 10 ottobre alle ore 19.00-20-30! \n  \nUn’esperienza che guarda al futuro \nQuesto webinar è fatto per chi è in procinto di presentare la propria candidatura per il tirocinio MAECI-CRUI o per chi non ha ancora i requisiti ma vuole iniziare a prepararsi al meglio.\nIn particolare\, attraverso le esperienze dei nostri e delle nostre ospiti\, ci soffermeremo su alcuni criteri determinanti al momento della presentazione della candidatura: la scelta della sede in vista del proprio percorso lavorativo futuro o per aumentare le chances di vincere il bando; la modalità online e in presenza in base alla sede scelta; i possibili sbocchi futuri. Ci confronteremo inoltre sul compenso previsto dal bando.\nIl Webinar va ad aggiungersi all’offerta prevista dal corso online Orientiamoci. E’ parte di una serie di momenti utili di confronto diretto con la community e con i relatori e relatrici del progetto\, per iniziare o accelerare la tua carriera nel settore della geopolitica e delle relazioni internazionali. \n  \nCosa ti rimarrà di questo Webinar \nNel tempo che trascorrerai insieme a relatori\, relatrici e agli altri e altre partecipanti\, imparerai attraverso testimonianze dirette\, quali sono le diverse esperienze possibili con la partecipazione allo stesso bando.\nVerranno svelati\, da chi li ha compiuti in prima persona\, i passi fatti per la preparazione della candidatura e per l’ottenimento del tirocinio.\nAffronteremo i problemi e le paure comuni vissute da chi si trova in questa fase del proprio percorso lavorativo e di vita.\nSarà un momento di confronto tra partecipanti\, relatori e relatrici\, che racconteranno ciò che hanno vissuto evidenziando le azioni che hanno portato a dei risultati ed alla costruzione di un primo profilo lavorativo.\nPer i partecipanti ci sarà la possibilità di scaricare un PDF con dei tips per la preparazione della domanda di partecipazione.\nDopo aver partecipato all’evento o dopo aver visto la registrazione\, potrai richiedere via email il rilascio di un attestato di partecipazione. \n  \nProgramma: \n– Cos’è il tirocinio MAECI-CRUI: spiegazione del bando e preparazione della candidatura\, Margherita Butti\n– Come anticipare la preparazione della candidatura già dalle prime fasi del proprio percorso universitario\, Ilaria De Angelis\n– Dibattito tra gli ospiti su utilità del tirocinio\, differenza tra le modalità online e in presenza\, importanza della scelta della sede\, il compenso previsto dal bando\, Ilaria De Angelis\, Nicolò Rascaglia\, Chiara Scarfò\n– Q & A \nPartecipa al Webinar cliccando qui! \n  \nPartecipando all’evento accetti che l’evento sia registrato e condiviso sui canali social del Centro Studi e di Orientiamoci!
URL:https://geopolitica.info/evento/bando-tirocinio-maeci-crui/
LOCATION:Google Meet
CATEGORIES:Webinar
ATTACH;FMTTYPE=image/png:https://geopolitica.info/wp-content/uploads/2023/09/Banner-1.png
END:VEVENT
BEGIN:VEVENT
DTSTART;TZID=Europe/Rome:20230613T183000
DTEND;TZID=Europe/Rome:20230613T193000
DTSTAMP:20260424T174518
CREATED:20230515T190627Z
LAST-MODIFIED:20230518T071912Z
UID:42906-1686681000-1686684600@geopolitica.info
SUMMARY:Open Days. Tirocinio con Geopolitica.info
DESCRIPTION:Vuoi collaborare con noi? \nIl Centro Studi Geopolitica.info si apre al pubblico: presenteremo le possibilità di collaborazione con il Centro Studi e spiegheremo le procedure di selezione per i tirocini\, con qualche consiglio per la presentazione della candidatura. \nInoltre\, parleremo di tutte le altre possibilità di entrare a far parte del Centro Studi e di collaborare con noi. \n  \nGiuseppe Blasetti\, Supervisione processi di selezione\, Centro Studi Geopolitica.info \nIlaria De Angelis\, Responsabile corsi online\, tirocini e social media\, Centro Studi Geopolitica.info \n  \nMargherita Butti\, Desk Comunicazione e Social Media\, Centro Studi Geopolitica.info – Presentazione del tirocinio \nElisa Ugolini\, Desk Comunicazione e Social Media\, Centro Studi Geopolitica.info – Scadenze\, tempistiche e modalità del tirocinio \nL’evento è gratuito\, iscriviti qui. \n  \nPartecipando all’evento accetti che l’evento sia registrato e condiviso sui canali social del Centro Studi.
URL:https://geopolitica.info/evento/open-days-tirocinio/
CATEGORIES:Evento online
ATTACH;FMTTYPE=image/png:https://geopolitica.info/wp-content/uploads/2023/05/2023-Open-days-tirocini-1.png
END:VEVENT
END:VCALENDAR