BEGIN:VCALENDAR
VERSION:2.0
PRODID:-//Geopolitica.info - ECPv6.15.20//NONSGML v1.0//EN
CALSCALE:GREGORIAN
METHOD:PUBLISH
X-ORIGINAL-URL:https://geopolitica.info
X-WR-CALDESC:Eventi per Geopolitica.info
REFRESH-INTERVAL;VALUE=DURATION:PT1H
X-Robots-Tag:noindex
X-PUBLISHED-TTL:PT1H
BEGIN:VTIMEZONE
TZID:Europe/Rome
BEGIN:DAYLIGHT
TZOFFSETFROM:+0100
TZOFFSETTO:+0200
TZNAME:CEST
DTSTART:20190331T010000
END:DAYLIGHT
BEGIN:STANDARD
TZOFFSETFROM:+0200
TZOFFSETTO:+0100
TZNAME:CET
DTSTART:20191027T010000
END:STANDARD
BEGIN:DAYLIGHT
TZOFFSETFROM:+0100
TZOFFSETTO:+0200
TZNAME:CEST
DTSTART:20200329T010000
END:DAYLIGHT
BEGIN:STANDARD
TZOFFSETFROM:+0200
TZOFFSETTO:+0100
TZNAME:CET
DTSTART:20201025T010000
END:STANDARD
BEGIN:DAYLIGHT
TZOFFSETFROM:+0100
TZOFFSETTO:+0200
TZNAME:CEST
DTSTART:20210328T010000
END:DAYLIGHT
BEGIN:STANDARD
TZOFFSETFROM:+0200
TZOFFSETTO:+0100
TZNAME:CET
DTSTART:20211031T010000
END:STANDARD
END:VTIMEZONE
BEGIN:VEVENT
DTSTART;VALUE=DATE:20201123
DTEND;VALUE=DATE:20201124
DTSTAMP:20260425T125817
CREATED:20211022T141002Z
LAST-MODIFIED:20211022T141002Z
UID:34318-1606089600-1606175999@geopolitica.info
SUMMARY:La Tunisia e il percorso di democratizzazione
DESCRIPTION:La Tunisia e il percorso di democratizzazione \nSeminario online: Lunedì 23 novembre ore 17.30. \nPer partecipare all’evento online è necessario registrarsi inviando una mail a eventotunisia2020@gmail.com \nSaluti istituzionali \nLuca Micheletta\, Università Roma La Sapienza\nAntonello Folco Biagini\, Fondazione Roma Sapienza\nAndrea Carteny\, CEMAS Sapienza \nIntervengono \nMoez Sinaoui\, ambasciatore di Tunisia in Italia: La Tunisia e le relazioni con l’Italia.\nLeila El Houssi\, Università di Roma La Sapienza: Così vicina così lontana? La Tunisia tra passato e presente\nDaniela Melfa\, Università di Catania: La rivoluzione democratica e sociale in Tunisia: le generazioni degli anni sessanta e settanta\nTania Groppi\, Università di Siena: Il difficile radicamento della Costituzione del 2015\nArmando Sanguini\, già ambasciatore italiano in Tunisia\, LUMSA: L’Islam e la transizione tunisina\nAlberto Negri\, giornalista: Il grande Medio Oriente dopo le elezioni americane \nDottorato in Studi Politici del Dipartimento di Scienze Politiche – Sapienza Università di Roma \nIn collaborazione con \nFondazione Roma Sapienza\nCEMAS- Sapienza\, Centro di Ricerca Cooperazione Internazionale\nCentro Studi Geopolitica.info
URL:https://geopolitica.info/evento/la-tunisia-e-il-percorso-di-democratizzazione/
CATEGORIES:Evento online
ATTACH;FMTTYPE=image/jpeg:https://geopolitica.info/wp-content/uploads/2020/11/Locandina-Tunisia.jpg
END:VEVENT
END:VCALENDAR