BEGIN:VCALENDAR
VERSION:2.0
PRODID:-//Geopolitica.info - ECPv6.15.20//NONSGML v1.0//EN
CALSCALE:GREGORIAN
METHOD:PUBLISH
X-ORIGINAL-URL:https://geopolitica.info
X-WR-CALDESC:Eventi per Geopolitica.info
REFRESH-INTERVAL;VALUE=DURATION:PT1H
X-Robots-Tag:noindex
X-PUBLISHED-TTL:PT1H
BEGIN:VTIMEZONE
TZID:Europe/Rome
BEGIN:DAYLIGHT
TZOFFSETFROM:+0100
TZOFFSETTO:+0200
TZNAME:CEST
DTSTART:20210328T010000
END:DAYLIGHT
BEGIN:STANDARD
TZOFFSETFROM:+0200
TZOFFSETTO:+0100
TZNAME:CET
DTSTART:20211031T010000
END:STANDARD
BEGIN:DAYLIGHT
TZOFFSETFROM:+0100
TZOFFSETTO:+0200
TZNAME:CEST
DTSTART:20220327T010000
END:DAYLIGHT
BEGIN:STANDARD
TZOFFSETFROM:+0200
TZOFFSETTO:+0100
TZNAME:CET
DTSTART:20221030T010000
END:STANDARD
BEGIN:DAYLIGHT
TZOFFSETFROM:+0100
TZOFFSETTO:+0200
TZNAME:CEST
DTSTART:20230326T010000
END:DAYLIGHT
BEGIN:STANDARD
TZOFFSETFROM:+0200
TZOFFSETTO:+0100
TZNAME:CET
DTSTART:20231029T010000
END:STANDARD
BEGIN:DAYLIGHT
TZOFFSETFROM:+0100
TZOFFSETTO:+0200
TZNAME:CEST
DTSTART:20240331T010000
END:DAYLIGHT
BEGIN:STANDARD
TZOFFSETFROM:+0200
TZOFFSETTO:+0100
TZNAME:CET
DTSTART:20241027T010000
END:STANDARD
END:VTIMEZONE
BEGIN:VEVENT
DTSTART;TZID=Europe/Rome:20230216T183000
DTEND;TZID=Europe/Rome:20230216T193000
DTSTAMP:20260425T051543
CREATED:20230207T103933Z
LAST-MODIFIED:20230207T103933Z
UID:41786-1676572200-1676575800@geopolitica.info
SUMMARY:Open Days. Winter School 2023
DESCRIPTION:Il Centro Studi Geopolitica.info ha lanciato la XVII Winter School in Geopolitica e Relazioni internazionali: “Biden\, Putin e Xi. Ritorno al gioco delle grandi potenze”. \nChe cosa è la Winter School e quali sono gli obiettivi della Scuola? \nPer quali profili e quali figure professionali è pensato il corso? \nChe genere di competenze sono fornite dalla Winter School? \nPer conoscere la risposta a queste e ad altre domande partecipa all’evento “Open Days. Winter School 2023”. \nNon perderti l’evento online di presentazione: Giovedì 16 Febbraio 2023 – 18:30 \n  \nPer iscriverti clicca QUI! \n  \nIntervengono:\nGabriele Natalizia\, Direttore del Centro Studi Geopolitica.info\nLorenzo Termine\, Coordinatore di Redazione del Centro Studi Geopolitica.info \nModera:\nElisa Ugolini\, Geopolitica.info \n  \n  \nPartecipando all’evento accetti che l’evento sia registrato e condiviso sui canali social del Centro Studi.  \n  \n  \n  \n 
URL:https://geopolitica.info/evento/open-days-winter-school-2023-2/
LOCATION:Zoom
CATEGORIES:Evento online
ATTACH;FMTTYPE=image/png:https://geopolitica.info/wp-content/uploads/2023/02/Open-days-Winter-school.png
END:VEVENT
BEGIN:VEVENT
DTSTART;TZID=Europe/Rome:20221213T190000
DTEND;TZID=Europe/Rome:20221213T200000
DTSTAMP:20260425T051543
CREATED:20221129T204927Z
LAST-MODIFIED:20221129T212021Z
UID:41024-1670958000-1670961600@geopolitica.info
SUMMARY:Open Days. Winter School 2023
DESCRIPTION:Il Centro Studi Geopolitica.info ha lanciato la XVII Winter School in Geopolitica e Relazioni internazionali: “Biden\, Putin e Xi. Ritorno al gioco delle grandi potenze”. \nChe cosa è la Winter School e quali sono gli obiettivi della Scuola? \nPer quali profili e quali figure professionali è pensato il corso? \nChe genere di competenze sono fornite dalla Winter School? \nPer conoscere la risposta a queste e ad altre domande partecipa all’evento “Open Days. Winter School 2023”. \nNon perderti l’evento online di presentazione: Martedì 13 Dicembre 2022 – 19.00 \n  \nPer iscriverti clicca QUI! \n  \nIntervengono:\nGabriele Natalizia\, Direttore del Centro Studi Geopolitica.info;\nMara Morini\, Università di Genova\nGabriele Vargiu\, Responsabile della Winter School \nModera:\nElisa Ugolini\, Geopolitica.info \n  \n  \nPartecipando all’evento accetti che l’evento sia registrato e condiviso sui canali social del Centro Studi. 
URL:https://geopolitica.info/evento/open-days-winter-school-2023/
CATEGORIES:Evento online
ATTACH;FMTTYPE=image/png:https://geopolitica.info/wp-content/uploads/2022/11/2023-Open-days-WS-2.png
END:VEVENT
END:VCALENDAR